BEGIN:VCALENDAR
VERSION:2.0
PRODID:-//https://www.gkp.hr///NONSGML kigkonsult.se iCalcreator 2.10.15//
METHOD:PUBLISH
BEGIN:VEVENT
UID:20260421T080241UTC-9258v4cBcV@https://www.gkp.hr/
DTSTAMP:20260421T080241Z
DESCRIPTION:2. Dani smijeha u Požegi /&nbsp\;Bankrot - Kerekesh teatar\nTek
 st i režija: Aleksandar Lazić\nIgraju:Aleksandar LazićNataša Lazić\nPredst
 ava puna preokreta i iznenađenja u kojoj se pronalaze i dame i gospoda i š
 ljakeri i domaćice. Predstava u kojoj je krivac više nego očit\, a završet
 ak totalno neočekivan. Bankrot može biti i simpatičan\, a put do njega nik
 ad nije bio lakši.\nDob: 16+\nCijena ulaznice: 12 EUR\nKlikni i kupi ulazn
 icu online!\nProdaja ulaznica u radno vrijeme blagajne kazališta: srijedom
  i petkom od 10 do 12 sati\, četvrtkom od 15 do 17 sati\, te sat vremena p
 rije početka predstave.\nKontakt: 099 273 1616 https://www.gkp.hr/componen
 t/rseventspro/event/1005-bankrot-aleks-i-bara
DTSTART:20250923T180000Z
DTEND:20250923T192500Z
LOCATION:Gradsko kazalište Požega (Trg Svetog Trojstva\, 34000\, Požega\, C
 roatia)
SUMMARY:Bankrot - Aleks i Bara
URL:https://www.gkp.hr/component/rseventspro/event/1005-bankrot-aleks-i-bar
 a
END:VEVENT
END:VCALENDAR
