BEGIN:VCALENDAR
VERSION:2.0
PRODID:-//https://www.gkp.hr///NONSGML kigkonsult.se iCalcreator 2.10.15//
METHOD:PUBLISH
BEGIN:VEVENT
UID:20260424T120051UTC-7836kfvxL9@https://www.gkp.hr/
DTSTAMP:20260424T120051Z
DESCRIPTION:Poznat po svom jedinstvenom humoru i oštroumnoj analizi svakodn
 evnih situacija\, Bloger Krule već godinama osvaja publiku širom Hrvatske.
  Njegov britki humor i vještina da iz banalnih životnih trenutaka izvuče n
 eodoljive komične momente čine svaki njegov nastup jedinstvenim.\nKrule ni
 je samo internetski fenomen - on je glas naroda koji se usudio reći ono št
 o svi mislimo\, ali se bojimo izgovoriti. Dođite i uvjerite se zašto ga st
 otine tisuća ljudi prate i obožava.\nUlaznice u prodaji: core-event.co\, T
 isak (Cehovska ulica) https://www.gkp.hr/component/rseventspro/event/1027-
 obrana-i-zastita-od-gluposti-bloger-krule
DTSTART:20251121T170000Z
DTEND:20251121T190000Z
LOCATION:Gradsko kazalište Požega (Trg Svetog Trojstva\, 34000\, Požega\, C
 roatia)
SUMMARY:Obrana i zaštita od gluposti - Bloger Krule 
URL:https://www.gkp.hr/component/rseventspro/event/1027-obrana-i-zastita-od
 -gluposti-bloger-krule
END:VEVENT
END:VCALENDAR
