BEGIN:VCALENDAR
VERSION:2.0
PRODID:-//https://www.gkp.hr///NONSGML kigkonsult.se iCalcreator 2.10.15//
METHOD:PUBLISH
BEGIN:VEVENT
UID:20260424T120449UTC-42983wUIdI@https://www.gkp.hr/
DTSTAMP:20260424T120449Z
DESCRIPTION:U petak\, 21.11.\, u 20:30 sati\, Požega će biti epicentar humo
 ra kada na pozornicu stupa Jadranko Hodak\, legendarni Bloger Krule!\nPozn
 at po svom jedinstvenom humoru i oštroumnoj analizi svakodnevnih situacija
 \, Bloger Krule već godinama osvaja publiku širom Hrvatske. Njegov britki 
 humor i vještina da iz banalnih životnih trenutaka izvuče neodoljive komič
 ne momente čine svaki njegov nastup jedinstvenim.\nKrule nije samo interne
 tski fenomen - on je glas naroda koji se usudio reći ono što svi mislimo\,
  ali se bojimo izgovoriti. Dođite i uvjerite se zašto ga stotine tisuća lj
 udi prate i obožava. https://www.gkp.hr/component/rseventspro/event/1028-o
 brana-i-zastita-od-gluposti-bloger-krule
DTSTART:20251121T193000Z
DTEND:20251121T213000Z
LOCATION:Gradsko kazalište Požega (Trg Svetog Trojstva\, 34000\, Požega\, C
 roatia)
SUMMARY:Obrana i zaštita od gluposti - Bloger Krule 
URL:https://www.gkp.hr/component/rseventspro/event/1028-obrana-i-zastita-od
 -gluposti-bloger-krule
END:VEVENT
END:VCALENDAR
