BEGIN:VCALENDAR
VERSION:2.0
PRODID:-//https://www.gkp.hr///NONSGML kigkonsult.se iCalcreator 2.10.15//
METHOD:PUBLISH
BEGIN:VEVENT
UID:20260424T113903UTC-2656OsVC6G@https://www.gkp.hr/
DTSTAMP:20260424T113903Z
DESCRIPTION:“Čiča Grinč” (Slavonski Grinč) je vesela i dirljiva božićna pre
 dstava o čiča Grgi\, starom gunđalu koje je odlučilo pokvariti blagdane u 
 svom selu. No\, uz pomoć djece i bake Mare\, Grga otkriva da pravo veselje
  Božića ne dolazi od darova ni ukrasa\, nego od dobrote i zajedništva. Kro
 z smijeh\, pjesmu i starinske običaje\, publika ulazi u toplu slavonsku ba
 jku punu emocije i duhovitih obrata. Predstava oživljava duh Božića na nač
 in blizak svakom srcu – jednostavno\, toplo i iskreno.„Slavonski Grinč“ – 
 priča koja topi led i budi osmijeh\, od malih do velikih.\nTekst i režija:
  Dario HakGlume: Anabela Sulić\, Mihael Kovačević\, Ivan Vukelić \, Ankica
  Ivanković\, Boris BenčićRasvjeta: Goran KrmpotićTon: Dario HakKostimi: Lj
 iljana RodićRekvizita i scenografija: Marija MatijanićMajstor scene i insp
 icijent: Renato PokPRODUKCIJA: Gradsko kazalište Požega\, prosinac 2025.\n
 Cijena ulaznice: 5 EUR\nKlikni i kupi ulaznicu online!\nProdaja ulaznica u
  radno vrijeme blagajne kazališta: srijedom i petkom od 10 do 12 sati\, če
 tvrtkom od 15 do 17 sati\, te sat vremena prije početka predstave.\nInform
 acije: 099 273 1616 https://www.gkp.hr/component/rseventspro/event/1029-pr
 emijera-cica-grinc
DTSTART:20251206T100000Z
DTEND:20251206T104500Z
LOCATION:Gradsko kazalište Požega (Trg Svetog Trojstva\, 34000\, Požega\, C
 roatia)
SUMMARY:PREMIJERA - Čiča Grinč
URL:https://www.gkp.hr/component/rseventspro/event/1029-premijera-cica-grin
 c
END:VEVENT
END:VCALENDAR
