BEGIN:VCALENDAR
VERSION:2.0
PRODID:-//https://www.gkp.hr///NONSGML kigkonsult.se iCalcreator 2.10.15//
METHOD:PUBLISH
BEGIN:VEVENT
UID:20260424T114547UTC-54137DcBOR@https://www.gkp.hr/
DTSTAMP:20260424T114547Z
DESCRIPTION:Predstava uz dodjelu poklona Sv. Nikole\n“Čiča Grinč” (Slavonsk
 i Grinč) je vesela i dirljiva božićna predstava o čiča Grgi\, starom gunđa
 lu koje je odlučilo pokvariti blagdane u svom selu. No\, uz pomoć djece i 
 bake Mare\, Grga otkriva da pravo veselje Božića ne dolazi od darova ni uk
 rasa\, nego od dobrote i zajedništva. Kroz smijeh\, pjesmu i starinske obi
 čaje\, publika ulazi u toplu slavonsku bajku punu emocije i duhovitih obra
 ta. Predstava oživljava duh Božića na način blizak svakom srcu – jednostav
 no\, toplo i iskreno.„Slavonski Grinč“ – priča koja topi led i budi osmije
 h\, od malih do velikih.Tekst i režija: Dario HakGlume: Anabela Sulić\, Mi
 hael Kovačević\, Ivan Vukelić \, Ankica Ivanković\, Boris BenčićRasvjeta: 
 Goran KrmpotićTon: Dario HakKostimi: Ljiljana RodićRekvizita i scenografij
 a: Marija MatijanićMajstor scene i inspicijent: Renato PokPRODUKCIJA: Grad
 sko kazalište Požega\, prosinac 2025.\nRezervacija ulaznica za blagdansku 
 predstavu isključivo u radno vrijeme blagajne kazališta – srijedom i petko
 m od 10 do 12 sati\, četvrtkom od 15 do 17 sati na broj mobitela 099 273 1
 616 ili osobnim dolaskom.Cijena ulaznice: 5 EUR\n&nbsp\; https://www.gkp.h
 r/component/rseventspro/event/1030-cica-grinc-gradsko-kazaliste-pozega
DTSTART:20251206T160000Z
DTEND:20251206T164500Z
LOCATION:Gradsko kazalište Požega (Trg Svetog Trojstva\, 34000\, Požega\, C
 roatia)
SUMMARY:Čiča Grinč - Gradsko kazalište Požega
URL:https://www.gkp.hr/component/rseventspro/event/1030-cica-grinc-gradsko-
 kazaliste-pozega
END:VEVENT
END:VCALENDAR
