BEGIN:VCALENDAR
VERSION:2.0
PRODID:-//https://www.gkp.hr///NONSGML kigkonsult.se iCalcreator 2.10.15//
METHOD:PUBLISH
BEGIN:VEVENT
UID:20260424T114402UTC-1256Ae5vZJ@https://www.gkp.hr/
DTSTAMP:20260424T114402Z
DESCRIPTION:Predstava uz dodjelu poklona Djeda Božićnjaka\n“Čiča Grinč” (Sl
 avonski Grinč) je vesela i dirljiva božićna predstava o čiča Grgi\, starom
  gunđalu koje je odlučilo pokvariti blagdane u svom selu. No\, uz pomoć dj
 ece i bake Mare\, Grga otkriva da pravo veselje Božića ne dolazi od darova
  ni ukrasa\, nego od dobrote i zajedništva. Kroz smijeh\, pjesmu i starins
 ke običaje\, publika ulazi u toplu slavonsku bajku punu emocije i duhoviti
 h obrata. Predstava oživljava duh Božića na način blizak svakom srcu – jed
 nostavno\, toplo i iskreno.„Slavonski Grinč“ – priča koja topi led i budi 
 osmijeh\, od malih do velikih.Tekst i režija: Dario HakGlume: Anabela Suli
 ć\, Mihael Kovačević\, Ivan Vukelić \, Ankica Ivanković\, Boris BenčićRasv
 jeta: Goran KrmpotićTon: Dario HakKostimi: Ljiljana RodićRekvizita i sceno
 grafija: Marija MatijanićMajstor scene i inspicijent: Renato PokPRODUKCIJA
 : Gradsko kazalište Požega\, prosinac 2025.\nRezervacija ulaznica za blagd
 ansku predstavu isključivo u radno vrijeme blagajne kazališta – srijedom i
  petkom od 10 do 12 sati\, četvrtkom od 15 do 17 sati na broj mobitela 099
  273 1616 ili osobnim dolaskom.Cijena ulaznice: 5 EUR\n&nbsp\; https://www
 .gkp.hr/component/rseventspro/event/1032-cica-grinc-gradsko-kazaliste-poze
 ga
DTSTART:20251222T160000Z
DTEND:20251222T164500Z
LOCATION:Gradsko kazalište Požega (Trg Svetog Trojstva\, 34000\, Požega\, C
 roatia)
SUMMARY:Čiča Grinč - Gradsko kazalište Požega
URL:https://www.gkp.hr/component/rseventspro/event/1032-cica-grinc-gradsko-
 kazaliste-pozega
END:VEVENT
END:VCALENDAR
