BEGIN:VCALENDAR
VERSION:2.0
PRODID:-//https://www.gkp.hr///NONSGML kigkonsult.se iCalcreator 2.10.15//
METHOD:PUBLISH
BEGIN:VEVENT
UID:20260424T115958UTC-7743Xs2ru9@https://www.gkp.hr/
DTSTAMP:20260424T115958Z
DESCRIPTION:Djed Božićnjak je smeće - komedija za odrasle&nbsp\;\nBadnjak n
 ažalost nije uvijek i svima veselje\, mir i dobro. Tužno je što puno ljudi
  pati od depresije koja i na Badnjak kulminira suicidalnim mislima. Na sre
 ću ili možda nesreću\, postoje ljudi koji bi trebali svima njima pomagati\
 , no nevolja je što je za njih biti na poslu jednaka tragedija kao i biti 
 depresivan… potrebit… Ovakvi marginalizirani likovi\, čija ljudskost i eks
 centričnost predstavljaju izvor kaosa za ljude sa sređenim životima\, ovdj
 e su pokretači i oblikovatelji događaja punih crnog humora. Što se dogodi 
 kad se šest čudnih ljudi različitih navika i sklonosti\, zamršene ljubavne
  geometrije nađe na istom mjestu na Badnjak? Nekoliko odgovora svakako nud
 i i ova predstava&nbsp\;Djed Božićnjak je smeće\, inače nastala u radionic
 i pariške&nbsp\;Troupe Le Splendid\, a svakako je zanimljivo da je jedna o
 d autorica teksta i glavna glumica Josiane Balasko (Balašković) „naše gore
  list”.\nOvom predstavom ne želimo poslati nikakvu poruku\, ne postavljamo
  pitanja\, ništa ne propitujemo\, niti rješavamo neke probleme… Želimo da 
 se naša publika zabavi i nasmije\, što naravno ne znači da su glumački ang
 ažman\, igra i vještina\, manji i jednostavniji… Dapače\, da bi suza potek
 la i da bi se smijeh izmamio\,&nbsp\; glumac mora proliti “krv znoj i suze
 ”!\nGlume: Goran Koši\, Sara Lustig\, Draško Zidar\, Silvijo Švast\, Mlade
 n Kovačić\, Sara Moser\, Mateo Pšihistalglasovi: Mia Marić\, Vedrana Kneže
 vić\, Marin Jurić-Čivro\nredatelj: Draško Zidarkostimograf i scenograf: Kr
 ešimir Tomacsuradnica za scenski pokret: Sanela Janković Marušićoblikovate
 lj svjetla: Domagoj Garajprevoditeljica: Andrea Grgić\nCijena ulaznice: 12
  EUR (studenti i umirovljenici: 9 EUR)\nKlikni i kupi ulaznicu online!\nPr
 odaja ulaznica u radno vrijeme blagajne kazališta: srijedom i petkom od 10
  do 12 sati\, četvrtkom od 15 do 17 sati\, te sat vremena prije početka pr
 edstave.Kontakt: 099 273 1616  https://www.gkp.hr/component/rseventspro/ev
 ent/1033-djed-bozicnjak-je-smece-kazaliste-virovitica
DTSTART:20251221T180000Z
DTEND:20251221T193000Z
LOCATION:Gradsko kazalište Požega (Trg Svetog Trojstva\, 34000\, Požega\, C
 roatia)
SUMMARY:Djed Božićnjak je smeće - Kazalište Virovitica
URL:https://www.gkp.hr/component/rseventspro/event/1033-djed-bozicnjak-je-s
 mece-kazaliste-virovitica
END:VEVENT
END:VCALENDAR
