BEGIN:VCALENDAR
VERSION:2.0
PRODID:-//https://www.gkp.hr///NONSGML kigkonsult.se iCalcreator 2.10.15//
METHOD:PUBLISH
BEGIN:VEVENT
UID:20260424T114408UTC-1850sIWDkf@https://www.gkp.hr/
DTSTAMP:20260424T114408Z
DESCRIPTION:Predstavu igramo organizirano za škole i vrtiće\n“Čiča Grinč” (
 Slavonski Grinč) je vesela i dirljiva božićna predstava o čiča Grgi\, star
 om gunđalu koje je odlučilo pokvariti blagdane u svom selu. No\, uz pomoć 
 djece i bake Mare\, Grga otkriva da pravo veselje Božića ne dolazi od daro
 va ni ukrasa\, nego od dobrote i zajedništva. Kroz smijeh\, pjesmu i stari
 nske običaje\, publika ulazi u toplu slavonsku bajku punu emocije i duhovi
 tih obrata. Predstava oživljava duh Božića na način blizak svakom srcu – j
 ednostavno\, toplo i iskreno.„Slavonski Grinč“ – priča koja topi led i bud
 i osmijeh\, od malih do velikih.Tekst i režija: Dario HakGlume: Anabela Su
 lić\, Mihael Kovačević\, Ivan Vukelić \, Ankica Ivanković\, Boris BenčićRa
 svjeta: Goran KrmpotićTon: Dario HakKostimi: Ljiljana RodićRekvizita i sce
 nografija: Marija MatijanićMajstor scene i inspicijent: Renato PokPRODUKCI
 JA: Gradsko kazalište Požega\, prosinac 2025. https://www.gkp.hr/component
 /rseventspro/event/1036-cica-grinc-gradsko-kazaliste-pozega
DTSTART:20251209T093000Z
DTEND:20251209T101000Z
LOCATION:Gradsko kazalište Požega (Trg Svetog Trojstva\, 34000\, Požega\, C
 roatia)
SUMMARY:Čiča Grinč - Gradsko kazalište Požega
URL:https://www.gkp.hr/component/rseventspro/event/1036-cica-grinc-gradsko-
 kazaliste-pozega
END:VEVENT
END:VCALENDAR
