BEGIN:VCALENDAR
VERSION:2.0
PRODID:-//https://www.gkp.hr///NONSGML kigkonsult.se iCalcreator 2.10.15//
METHOD:PUBLISH
BEGIN:VEVENT
UID:20260424T113903UTC-54982NVZwt@https://www.gkp.hr/
DTSTAMP:20260424T113903Z
DESCRIPTION:Ivan Šarić se stand up komedijom bavi od 2006. godine od kada j
 e skupio veliku kilometražu putujući po nastupima po Hrvatskoj\, Sloveniji
 \, Srbiji\, BiH\, ali i u Engleskoj. Pripadnik je novog vala stand up komi
 čara\, a oduševljava jednom verzijom britkog britanskog humora Eddie Izzar
 da i Monty Python-a uklopljenog u svakodnevne događaje ljudi koji žive u H
 rvatskoj\, posebno Dalmaciji i oko nje.Njegov stil mješavina je opservacij
 skog i apstraktnog humora primjenjiva na širokoj paleti tema\, od muško-že
 nskih odnosa\, života na Balkanu\, života u Dalmaciji\, političkih i regio
 nalnih tema pa sve do sarkastičkog pogleda na samog sebe. Njegov preobraža
 j iz mladog klinca zaljubljenog u svijet informatike u isto tako mladog čo
 vjeka koji će svojim predstavama zabavljati pučanstvo na ovim prostorima i
  šire\, počinje 2004. godine kad je dobio od prijatelja izgrebani DVD sa s
 tand up nastupom Robina Williamsa.Danas bi vrijedilo pitati njegovog prija
 telja kako je nanjušio talent kod tada 24-godišnjeg Šarića. Nakon toga Iva
 n počinje pisati tekstove za svoje nastupe čija količina danas prelazi bro
 jku od preko 1500 nastupa.Ivan izvodi samostane autorske predstave u traja
 nju od sat i pol do dva sata. Ne koristi nikakve vanjske scenske ili audio
  efekte – na sceni su samo on i mikrofon.Tako je 2016. godine proslavio sv
 ojih 10 godina karijere\, rasprodajući veliku dvoranu Lisinski . I to dva 
 puta. Tada ga je u ta dva dana gledalo 3500 ljudi.Kao televizijskog vodite
 lja publika ga imala prilike upoznati prije kada je počeo na MTV Adriji\, 
 zatim prelazi na RTL televiziju nakon čega je česti gost raznih uspješnih 
 projekata na hrvatskim televizijama a jedan od njih je i “Tvoje lice zvuči
  poznato” na Novoj TV i''Ples sa zvijezdama''.\nProdaja ulaznica: www.even
 tim.hr https://www.gkp.hr/component/rseventspro/event/1043-ivan-saric-stan
 d-up-comedy-show
DTSTART:20251211T190000Z
DTEND:20251211T203000Z
LOCATION:Gradsko kazalište Požega (Trg Svetog Trojstva\, 34000\, Požega\, C
 roatia)
SUMMARY:Ivan Šarić - Stand up comedy show
URL:https://www.gkp.hr/component/rseventspro/event/1043-ivan-saric-stand-up
 -comedy-show
END:VEVENT
END:VCALENDAR
