BEGIN:VCALENDAR
VERSION:2.0
PRODID:-//https://www.gkp.hr///NONSGML kigkonsult.se iCalcreator 2.10.15//
METHOD:PUBLISH
BEGIN:VEVENT
UID:20260424T115329UTC-6139Ap6ZTl@https://www.gkp.hr/
DTSTAMP:20260424T115329Z
DESCRIPTION:7. veljače u 11.00 h\nTrio Rio gostuje u GK Joza Ivakić Vinkovc
 i\nMalena tročlana putujuća obitelj\, najstariji brat Mario i dvije mlađe 
 sestre Daria i Rosaria\, vlakom idu od mjesta do mjesta u potrazi za publi
 kom. Jer gdje ima publike\, ima i prostora za pokazati najluđe trikove koj
 e su ih naučili roditelji\, a njih\, njihovi roditelji\, a njih\, njihovi 
 roditelji. Žongliranje\, akrobacije\, trikovi\, lutkarstvo\, gluma\, klaun
 iranje\; nema toga što trio u svom cirkusu Rio\, ne može izvesti. Kroz bra
 tsko-sestrinske odnose učimo o vrijednostima\, o podršci\, o samopouzdanju
 \, povjerenju i hrabrosti jer svo troje ne mogu jedno bez drugoga. Stoga n
 e propustite ovu ludu akrobatsko-žonglersku trijadu koja će oduševiti sve 
 članove obitelji.\nAutorski tim:Režija\, dramaturgija\, scenografija: Mari
 jana Matoković\nIzvode: Anabela Sulić\, Toni Leaković\, Marijana Matoković
 \nGlazba: Šimun Matišić\nKostimografija: Angela Runje\nScenski pokret: Ili
 jana Lončar\nSavjetnica za cirkuske elemente: Mariia Toryanyk\nDizajn plak
 ata: Domagoj KripOblikovanje svjetla: Goran KrmpotićIzrada scenografije: M
 ihael Kovačević\, Marija Matijanić\, Renato Pok\, Marijana Matoković\, Ana
 bela Sulić\, Toni LeakovićOblikovanje tona: Dario HakGarderobijerka: Ljilj
 ana RodićProdukcija: Gradsko kazalište Požega\, ožujak 2025.\n&nbsp\; http
 s://www.gkp.hr/component/rseventspro/event/1059-trio-rio-gostovanje-u-vink
 ovcima
DTSTART:20260207T100000Z
DTEND:20260207T204500Z
LOCATION:Gradsko kazalište Joza Ivakić - Vinkovci (Ulica Hrvatskih žrtava 2
  \, Vinkovci)
SUMMARY:Trio Rio - gostovanje u Vinkovcima
URL:https://www.gkp.hr/component/rseventspro/event/1059-trio-rio-gostovanje
 -u-vinkovcima
END:VEVENT
END:VCALENDAR
