BEGIN:VCALENDAR
VERSION:2.0
PRODID:-//https://www.gkp.hr///NONSGML kigkonsult.se iCalcreator 2.10.15//
METHOD:PUBLISH
BEGIN:VEVENT
UID:20260422T014110UTC-9486hcmbPs@https://www.gkp.hr/
DTSTAMP:20260422T014110Z
DESCRIPTION:O autoru: Marc Camoletti (1923. – 2003.) je francuski dramatiča
 r najpoznatiji po svojim laganim komedijama situacije. Njegov najveći hit\
 , Boeing Boeing\, uvršten je u Guinnessovu knjigu rekorda kao najizvođenij
 a francuska drama na svijetu. 'Pidžama za šestero' (izvorno Pyjamas pour s
 ix) svojevrsni je nastavak tog duha\, pružajući publici vrhunsku zabavu i 
 savršen bijeg od svakodnevice.\nO predstavi: Što se dogodi kada planirani 
 romantični vikend s ljubavnicom krene po zlu? Odgovor nudi 'Pidžama za šes
 tero'\, jedna od najizvođenijih suvremenih farsi koja već desetljećima nas
 mijava publiku diljem svijeta. Autor Marc Camoletti\, majstor 'bulevarskog
  kazališta'\, u ovom nas djelu uvodi u labirint laži\, zamijenjenih identi
 teta i nevjerojatnih slučajnosti. Radnja je smještena u šarmantno preuređe
 nu seosku kuću u blizini Pariza. Bernard se nadao savršenom alibiju dok mu
  je supruga Jacqueline trebala biti odsutna. Angažirao je kuharicu (kako b
 i impresionirao ljubavnicu) i pozvao najboljeg prijatelja Roberta da mu 'č
 uva leđa'. No\, kad Jacqueline odluči ostati kod kuće\, započinje suluda i
 gra u kojoj svatko mora igrati ulogu koja mu ne pripada. Kroz brze dijalog
 e\, neprestane ulaske i izlaske te komične nesporazume\, 'Pidžama za šeste
 ro' razotkriva ljudske slabosti na krajnje simpatičan i duhovit način. Ovo
  je predstava o pokušajima da se sačuva obraz dok se istovremeno gubi razu
 m u mreži vlastitih spletki.Autorski tim:Režija i adaptacija teksta: Vladi
 mir AndrićGlume: Matko Trnačić – Bernard\, Anabela Sulić – Jacqueline\, Iv
 an Vukelić – Robert\, Selena Andrić – Suzette\, Ivona Alavanja – Suzzane\,
  Aleksandar Kojić – GeorgeScenografija: Vladimir AndrićKostimografija: Ana
  MikulićScenski pokret: Ilijana LončarOblikovatelj rasvjete: Goran Krmpoti
 ćMajstor tona: Dario HakInspicijent: Renato PokGarderobijerka: Ljiljana Ro
 dićRekviziter: Mihael KovačevićFoto: Robert DemoDizajn plakata: Denis Tres
 kanica\nProdukcija: Gradsko kazalište Požega\, travanj 2026.\nCijena ulazn
 ice: 12 EUR (studenti i umirovljenici 10 EUR)\nKlikni i kupi ulaznicu onli
 ne!\nProdaja ulaznica u radno vrijeme blagajne kazališta: srijedom i petko
 m od 10 do 12 sati\, četvrtkom od 15 do 17 sati\, te sat vremena prije poč
 etka predstave.\nKontakt: 099 273 1616\n&nbsp\;\n&nbsp\; https://www.gkp.h
 r/component/rseventspro/event/1086-pidzama-za-sestero-gradsko-kazaliste-po
 zega
DTSTART:20260507T180000Z
DTEND:20260507T194000Z
LOCATION:Gradsko kazalište Požega (Trg Svetog Trojstva\, 34000\, Požega\, C
 roatia)
SUMMARY:Pidžama za šestero - Gradsko kazalište Požega
URL:https://www.gkp.hr/component/rseventspro/event/1086-pidzama-za-sestero-
 gradsko-kazaliste-pozega
END:VEVENT
END:VCALENDAR
