BEGIN:VCALENDAR
VERSION:2.0
PRODID:-//https://www.gkp.hr///NONSGML kigkonsult.se iCalcreator 2.10.15//
METHOD:PUBLISH
BEGIN:VEVENT
UID:20260424T090226UTC-9436PpWvXh@https://www.gkp.hr/
DTSTAMP:20260424T090226Z
DESCRIPTION:Predstava pod nazivom Bajke… i još nešto autorski je projekt Sa
 re Lustig i Gorana Vučka. Namijenjena je djeci od 4 do 10 godina te služi 
 kao odgovor autora na poplavu diznijevskih i modernih bajki američke produ
 kcije. Autori su stvorili predstavu u potpunosti temeljenu na hrvatskim na
 rodnim bajkama kako bi djecu od najranije dobi upoznali s bogatom hrvatsko
 m kulturnom baštinom koja ima neprekinutu i dugu tradiciju\, ali koja je č
 esto zapostavljena od strane hrvatskih kazališnih stvaratelja. Bajke… i jo
 š nešto stvaraju za svoju dječju publiku poetične\, edukativne\, zabavne s
 vjetove koji su dio i njihovog\, odnosno našeg\, kulturnog naslijeđa.\nGlu
 me: Sara Lustig i Goran Vučko\ndramatizacija\, dramaturgija\, režija\, sce
 nografija\, kostimografija\, scenski pokret\, izbor glazbe: Sara Lustig &a
 mp\; Goran Vučkooblikovatelj svjetla: Damir Gvojićoblikovatelj tona: Mario
  Nađ\nInformacije i rezervacije na 034/273-161 ili putem Facebooka od 1. l
 istopada 2021.Cijena ulaznice 25\,00 kn\n&nbsp\; https://www.gkp.hr/compon
 ent/rseventspro/event/489-bajke-i-jos-nesto-kazaliste-virovitica
DTSTART:20211016T090000Z
DTEND:20211016T094000Z
LOCATION:Gradsko kazalište Požega (Trg Svetog Trojstva\, 34000\, Požega\, C
 roatia)
SUMMARY:BAJKE... i još nešto - Kazalište Virovitica
URL:https://www.gkp.hr/component/rseventspro/event/489-bajke-i-jos-nesto-ka
 zaliste-virovitica
END:VEVENT
END:VCALENDAR
