BEGIN:VCALENDAR
VERSION:2.0
PRODID:-//https://www.gkp.hr///NONSGML kigkonsult.se iCalcreator 2.10.15//
METHOD:PUBLISH
BEGIN:VEVENT
UID:20260424T115146UTC-58156uFkBO@https://www.gkp.hr/
DTSTAMP:20260424T115146Z
DESCRIPTION:Crvenkapica - Gradsko kazalište Požega u 10.00 i 11.00 hRežija:
  Ružica MaurusIzvode: Matko Trnačić\, Anabela Sulić i Kornelija Marks http
 s://www.gkp.hr/component/rseventspro/event/494-crvenkapica-gradsko-kazalis
 te-pozega
DTSTART:20210927T080000Z
DTEND:20210927T083000Z
LOCATION:Dječji vrtići Požega (Rudinska ul. 8)
SUMMARY:Crvenkapica - Gradsko kazalište Požega
URL:https://www.gkp.hr/component/rseventspro/event/494-crvenkapica-gradsko-
 kazaliste-pozega
END:VEVENT
END:VCALENDAR
