BEGIN:VCALENDAR
VERSION:2.0
PRODID:-//https://www.gkp.hr///NONSGML kigkonsult.se iCalcreator 2.10.15//
METHOD:PUBLISH
BEGIN:VEVENT
UID:20260423T022539UTC-32755G0gxL@https://www.gkp.hr/
DTSTAMP:20260423T022539Z
DESCRIPTION:'Jednom davno\, u dalekoj gredici\, povrće je živjelo u miru i 
 skladu. Sve dok vojska zlih nametnika nije odlučila obilno blagovati.\nTad
 a je hrabri Per Shin\, zajedno sa vojskom JOPovaca (Jedinica Otpora Povrća
 ) obranio gredicu\, i svi su ponovno živjeli u miru i skladu. Ili...?' Sim
 patična i dinamična priča koja govori o uzajamnoj ljubavi između članova o
 bitelji\, mudrosti starijih i ono\, što je najbitnije\, kako se samo radom
  i dobrim djelima postižu velike stvari\, ispričana kroz vizuru povrća. Pr
 edstava je namijenjena za vrtiće i niže razrede osnovnih škola.\nGradsko k
 azalište Požega i Akademija za umjetnost i kulturu u Osijeku\nAutorski tim
 : Mihael Elijaš\, Marijin Kuzmičić\, Andrija Krištof\, Silvijo Švast\nMent
 or: Hrvoje Seršić\nIzrada lutaka: Sara Baričević\nMentor: Ria Trdin\nRasvj
 eta: Goran Krmpotić\nTon: Dario Hak\nScenski poslovi: Renato Pok https://w
 ww.gkp.hr/component/rseventspro/event/499-zatocenik-kule-bro-gostovanje-u-
 karlovcu
DTSTART:20211009T090000Z
DTEND:20211009T093500Z
LOCATION:Gradsko kazalište Zorin dom - Karlovac (Domobranska ulica 1\, 4700
 0 Karlovac)
SUMMARY:Zatočenik kule Bro - gostovanje u Karlovcu
URL:https://www.gkp.hr/component/rseventspro/event/499-zatocenik-kule-bro-g
 ostovanje-u-karlovcu
END:VEVENT
END:VCALENDAR
