BEGIN:VCALENDAR
VERSION:2.0
PRODID:-//https://www.gkp.hr///NONSGML kigkonsult.se iCalcreator 2.10.15//
METHOD:PUBLISH
BEGIN:VEVENT
UID:20260423T151920UTC-5996VGSghU@https://www.gkp.hr/
DTSTAMP:20260423T151920Z
DESCRIPTION:Predstava se izvodi organizirano za škole.\n'Jednom davno\, u d
 alekoj gredici\, povrće je živjelo u miru i skladu. Sve dok vojska zlih na
 metnika nije odlučila obilno blagovati.Tada je hrabri Per Shin\, zajedno s
 a vojskom JOPovaca (Jedinica Otpora Povrća) obranio gredicu\, i svi su pon
 ovno živjeli u miru i skladu. Ili...?' Simpatična i dinamična priča koja g
 ovori o uzajamnoj ljubavi između članova obitelji\, mudrosti starijih i on
 o\, što je najbitnije\, kako se samo radom i dobrim djelima postižu velike
  stvari\, ispričana kroz vizuru povrća. Predstava je namijenjena za vrtiće
  i niže razrede osnovnih škola.\nGradsko kazalište Požega i Akademija za u
 mjetnost i kulturu u Osijeku\nAutorski tim: Mihael Elijaš\, Marijin Kuzmič
 ić\, Andrija Krištof\, Silvijo Švast\nMentor: Hrvoje Seršić\nIzrada lutaka
 : Sara Baričević\nMentor: Ria Trdin\nRasvjeta: Goran Krmpotić\nTon: Dario 
 Hak\nScenski poslovi : Renato Pok https://www.gkp.hr/component/rseventspro
 /event/502-zatocenik-kule-bro-gradsko-kazaliste-pozega
DTSTART:20211012T070000Z
DTEND:20211012T073500Z
LOCATION:Gradsko kazalište Požega (Trg Svetog Trojstva\, 34000\, Požega\, C
 roatia)
SUMMARY:Zatočenik kule Bro - Gradsko kazalište Požega
URL:https://www.gkp.hr/component/rseventspro/event/502-zatocenik-kule-bro-g
 radsko-kazaliste-pozega
END:VEVENT
END:VCALENDAR
