BEGIN:VCALENDAR
VERSION:2.0
PRODID:-//https://www.gkp.hr///NONSGML kigkonsult.se iCalcreator 2.10.15//
METHOD:PUBLISH
BEGIN:VEVENT
UID:20260421T152341UTC-2434vNaoXv@https://www.gkp.hr/
DTSTAMP:20260421T152341Z
DESCRIPTION:8. studenoga 2021. u 20.00 sati\n'Guja u njedrima' gostuje na 1
 0. Bobijevim danima smijeha u Zagrebu. https://www.gkp.hr/component/rseven
 tspro/event/507-guja-u-njedrima-gostovanje-u-zagrebu
DTSTART:20211108T190000Z
DTEND:20211108T202000Z
LOCATION:Glumačka družina Histrion (Ilica 90 Zagreb)
SUMMARY:Guja u njedrima - gostovanje u Zagrebu
URL:https://www.gkp.hr/component/rseventspro/event/507-guja-u-njedrima-gost
 ovanje-u-zagrebu
END:VEVENT
END:VCALENDAR
