BEGIN:VCALENDAR
VERSION:2.0
PRODID:-//https://www.gkp.hr///NONSGML kigkonsult.se iCalcreator 2.10.15//
METHOD:PUBLISH
BEGIN:VEVENT
UID:20260422T005319UTC-5759F9cu8l@https://www.gkp.hr/
DTSTAMP:20260422T005319Z
DESCRIPTION:U Požegu stiže vješto podmazani stroj urnebesa\, stand up comed
 y predstava #ProstiFaktori Marka Dejanovića. Riječ je o showu koji je izve
 den gotovo 60 puta\, diljem Hrvatske\, ali i u Sloveniji i Austriji. U sub
 otu 13.11. od 20.00 h biti će prvi put izveden u Gradskom kazalištu Požega
 .&nbsp\;\nCijena ulaznice: u pretprodaji 50\,00 kn\, na dan izvedbe 60\,00
  kn. https://www.gkp.hr/component/rseventspro/event/515-prosti-faktori-mar
 ko-dejanovic-bih-stand-up-komedija
DTSTART:20211113T190000Z
DTEND:20211113T202000Z
LOCATION:Gradsko kazalište Požega (Trg Svetog Trojstva\, 34000\, Požega\, C
 roatia)
SUMMARY:'Prosti Faktori' Marko Dejanović (BiH) Stand Up Komedija
URL:https://www.gkp.hr/component/rseventspro/event/515-prosti-faktori-marko
 -dejanovic-bih-stand-up-komedija
END:VEVENT
END:VCALENDAR
