BEGIN:VCALENDAR
VERSION:2.0
PRODID:-//https://www.gkp.hr///NONSGML kigkonsult.se iCalcreator 2.10.15//
METHOD:PUBLISH
BEGIN:VEVENT
UID:20260425T142833UTC-3449lncPfJ@https://www.gkp.hr/
DTSTAMP:20260425T142833Z
DESCRIPTION:J. Kozarac – B. Vujčić:&nbsp\;„Tena – kronika raspada jedne lje
 pote“&nbsp\;\nZajednička predstava GK Joza Ivakić Vinkovci i GDK Gavella Z
 agreb\, Ludens teatra Koprivnica\, Gradskog kazališta Požega i Centra za c
 jeloživotno učenje i kulturu BjelovarDramatizacija: Borislav VujčićRedatel
 j i adaptacija: Dražen FerenčinaScenografija: Marita Ćopo i Dražen Ferenči
 naKostimografkinja: Marita ĆopoSuradnice kostimografkinje: Emilija Šuškovi
 ć i Tena PilićSkladatelj i scenska glazba: Igor ValeriKostimografija i sce
 nski pokret: Maja HuberAutor rasvjete: Zdravko StolnikŠminka: Danijela Pav
 lekFrizura: Darinka SmetiškoDizajn plakata i programske knjižice: Dubravko
  MatakovićVideo najava: Darko Bušnja\nOSOBE:TENA - Matea MarušićJERKO PAVL
 ETIĆ (otac) - Filip ŠovagovićJAROSLAV BERANEK - Ivan GrčićLEON JUNGMAN - D
 avor SvedružićCIGANIN ĐORĐE - Vedran DakićJOZA MATIJEVIĆ - Vladimir Andrić
 IVKA\, Jozina žena - Selena AndrićMARUŠKA\, Đorđeva žena - Martina Stjepan
 ovićSTARA GATARA - Areta ĆurkovićTRI ŽENE - Areta Ćurković\, Selena Andrić
 \, Zorko BagićKRČMAR - Ivica LučićLAKAJ - Zorko Bagić\nKlasik hrvatske knj
 iževnosti\, iz pera 'jednog od najvažnijih slavonskih pripovjedača'\, 'Ten
 a' je ispisana na dodiru realističke zagledanosti u pukotine jednog društv
 a i modernističkih nagnuća autora\, pri čemu nije lišena subverzivnosti. K
 ozarac se kritički obrušava na ono u čemu prepoznaje destruiranje tradicio
 nalnih vrijednosti\, no istodobno je svjestan kako se vremena nužno mijenj
 aju\, te bezglasni ženski likovi iznikli iz koncepta patrijarhata trebaju 
 ustupiti mjesto ženama koje odlučuju i djeluju. Tena tako svoj osjećaj slo
 bode verbalizira usklikom: '...ja sam ja\; sve što je na meni\, moje je!'\
 , čija jeka odzvanja i danas. Pritom Kozarac nije toliko usredotočen na me
 ntalitet\, koliko na konkretnu ekonomsku i društvenu situaciju – raspadanj
 e seoskih zadruga\, Khuenovu strahovladu i silne eksploatacije lokalnih šu
 ma od strane bogatih stranaca\, te na domaće ljude koji 'nezadovoljni star
 im usvajaju novo\, da bi se\, nadajući se upravo suprotnom\, ubrzo našli n
 a dnu'... Glavni lik stoga se može čitati i kao metafora za Slavoniju\, za
  'raskoš koja se neštedimice rasipa'\, pa smo pred djelom sposobnim otvori
 ti prostor za raznolike pristupe i rasprave...\nCijena ulaznice: 50.00 kn 
 (studenti i umirovljenici: 40.00 kn)\nRezervacije: 034/273-161\, marketing
 @gkp.hr\, FB\nRadno vrijeme blagajne kazališta – srijedom od 10 do 12 sati
  te sat vremena prije početka predstave\nUlaz uz COVID potvrde. https://ww
 w.gkp.hr/component/rseventspro/event/524-tena-kronika-raspada-jedne-ljepot
 e-premijera
DTSTART:20220204T190000Z
DTEND:20220204T202000Z
LOCATION:Gradsko kazalište Požega (Trg Svetog Trojstva\, 34000\, Požega\, C
 roatia)
SUMMARY:„Tena – kronika raspada jedne ljepote“  - PREMIJERA
URL:https://www.gkp.hr/component/rseventspro/event/524-tena-kronika-raspada
 -jedne-ljepote-premijera
END:VEVENT
END:VCALENDAR
