BEGIN:VCALENDAR
VERSION:2.0
PRODID:-//https://www.gkp.hr///NONSGML kigkonsult.se iCalcreator 2.10.15//
METHOD:PUBLISH
BEGIN:VEVENT
UID:20260421T141134UTC-2285OHARdS@https://www.gkp.hr/
DTSTAMP:20260421T141134Z
DESCRIPTION:Dupla doza - Goran Vinčić &amp\; Marko Dejanović Stand Up Comed
 y Show\nCijena ulaznice: 50.00 knRezervacije: 034/273-161\, marketing@gkp.
 hr\, FBRadno vrijeme blagajne kazališta – srijedom i petkom od 10 do 12 sa
 ti\, četvrtkom od 15 do 17 sati\, te sat vremena prije početka predstave. 
 https://www.gkp.hr/component/rseventspro/event/569-dupla-doza-stand-up-com
 edy-show
DTSTART:20220514T180000Z
DTEND:20220514T193000Z
LOCATION:Gradsko kazalište Požega (Trg Svetog Trojstva\, 34000\, Požega\, C
 roatia)
SUMMARY:Dupla doza - stand up comedy show
URL:https://www.gkp.hr/component/rseventspro/event/569-dupla-doza-stand-up-
 comedy-show
END:VEVENT
END:VCALENDAR
