BEGIN:VCALENDAR
VERSION:2.0
PRODID:-//https://www.gkp.hr///NONSGML kigkonsult.se iCalcreator 2.10.15//
METHOD:PUBLISH
BEGIN:VEVENT
UID:20260423T222043UTC-1048eRGFDJ@https://www.gkp.hr/
DTSTAMP:20260423T222043Z
DESCRIPTION:Umjetnička organizacija Plesna radionica Ilijane Lončar i u 202
 2. godini nastavlja uspješan projekt organizacije gostovanja profesionalni
 h plesnih predstava 'SVI NA PLESNU PREDSTAVU'. Nakon odlično primljene izv
 edbe u veljači\, ponovno nam dolazi predstava namijenjena bebama starosti 
 3 - 18 mjeseci i njihovim roditeljima tj. osobama od povjerenja.25. lipnja
  2022. (subota) u 11 satiu Gradskom kazalištu PožegaMaksimalan broj beba p
 o izvedbi je 15 uz 15 odraslih.Cijena ulaznice je 50 kn. (beba + roditelj)
 Ulaznice možete rezervirati putem obrasca na www.ilijanaloncar.hr ili na b
 roj mobitela 098 884 057.O PREDSTAVI:'NINABU' je multisenzorna\, participa
 tivna predstava za bebe od 3 do 18 mjeseci i njihove odrasle. To je posebn
 o osmišljen prostor iizvedba koji pozivaju publiku da uroni\, otkriva\, už
 iva\, gleda\, osjeća i igra se u multisenzornom i sigurnom okruženju\, koj
 i žele biti intimni kolaž pokreta\, plesa\, glasa\, pjevanja\, glazbe\, mi
 risa\, interaktivne igre\, taktilnih i vizualnih objekata. Bebe i njihova 
 pratnja&nbsp\;pozvani su u obilje mašte\, stvaranja\, iznenađenja\, uživan
 ja\, poticajnog ambijenta u ovoj nepredvidivoj igri dva suprotna elementa 
 'nina' i 'bu-a'. Gdje je nina\, tu je bu\, a gdje je bu\, tamo je nina. Ni
 nabu je zamišljena mala šuma (života) u kojoj će svatko stvoriti&nbsp\;vla
 stitu viziju iz osobnog tjelesnog iskustva\, što može biti i puno više od 
 same šume…Koncept i koreografija: Irma UnušićIzvedba: Buga Marija Šimić\
 , Irma UnušićGlazba: Vanesa Petrac\, Ivan MarojevićScena i kostimi: Sele
 na Gazda\, Irma UnušićDizajn svjetla: Domagoj KlasićGrafički dizajn: Pe
 tra ZlonogaFotografija: Mario KnorProdukcija: UO SHOOMA i Kazalište Mala s
 cena https://www.gkp.hr/component/rseventspro/event/597-ninabu-kazaliste-m
 ala-scena-i-uo-shooma
DTSTART:20220625T090000Z
DTEND:20220625T093500Z
LOCATION:Gradsko kazalište Požega (Trg Svetog Trojstva\, 34000\, Požega\, C
 roatia)
SUMMARY:Ninabu - Kazalište Mala scena i UO Shooma
URL:https://www.gkp.hr/component/rseventspro/event/597-ninabu-kazaliste-mal
 a-scena-i-uo-shooma
END:VEVENT
END:VCALENDAR
