BEGIN:VCALENDAR
VERSION:2.0
PRODID:-//https://www.gkp.hr///NONSGML kigkonsult.se iCalcreator 2.10.15//
METHOD:PUBLISH
BEGIN:VEVENT
UID:20260424T222742UTC-62993xUWed@https://www.gkp.hr/
DTSTAMP:20260424T222742Z
DESCRIPTION:Predstava Smrt Smail–age Čengića u izvedbi studenata Akademije 
 za umjetnost i kulturu u Osijeku pod mentorstvom umjetničke suradnice Sele
 ne Andrić.Ulaz slobodan.\nInformacije: 034/ 273-161\, marketing@gkp.hr\,&n
 bsp\; https://www.gkp.hr/component/rseventspro/event/604-smrt-smail-age-ce
 ngica-aukos
DTSTART:20220706T190000Z
DTEND:20220706T200000Z
LOCATION:Gradsko kazalište Požega - vanjska pozornica ()
SUMMARY:Smrt Smail–age Čengića - AUKOS
URL:https://www.gkp.hr/component/rseventspro/event/604-smrt-smail-age-cengi
 ca-aukos
END:VEVENT
END:VCALENDAR
