BEGIN:VCALENDAR
VERSION:2.0
PRODID:-//https://www.gkp.hr///NONSGML kigkonsult.se iCalcreator 2.10.15//
METHOD:PUBLISH
BEGIN:VEVENT
UID:20260421T211646UTC-8516n2DH7x@https://www.gkp.hr/
DTSTAMP:20260421T211646Z
DESCRIPTION:Drvo bajki 'Sluga i gospodar'\nRežija: Dario Hak\nIzvode: Korne
 lija Marks\, Mihael Kovačević\, Marta Matoković\nSluga i gospodar je priča
  o blagodatima mudrosti te neisplativosti zloće. Tko će ovdje koga nadmudr
 iti\, a tko će batinu izvući\, pogodite sami ili dođite i s nama otkrijte.
 \nPredstava se izvodi u pješačkoj zoni Požega\nUlaz slobodan!\n&nbsp\;\n&n
 bsp\; https://www.gkp.hr/component/rseventspro/event/652-drvo-bajki-sluga-
 i-gospodar
DTSTART:20221211T170000Z
DTEND:20221211T173000Z
LOCATION:Požega\, pješačka zona (Pješačka zona)
SUMMARY:Drvo bajki - Sluga i gospodar
URL:https://www.gkp.hr/component/rseventspro/event/652-drvo-bajki-sluga-i-g
 ospodar
END:VEVENT
END:VCALENDAR
