BEGIN:VCALENDAR
VERSION:2.0
PRODID:-//https://www.gkp.hr///NONSGML kigkonsult.se iCalcreator 2.10.15//
METHOD:PUBLISH
BEGIN:VEVENT
UID:20260423T124047UTC-3518NbAnAl@https://www.gkp.hr/
DTSTAMP:20260423T124047Z
DESCRIPTION:Izbor životnog poziva\, budućeg zanimanja\, ili dječje rečeno „
 što ću raditi kad budem velik“ je jedno od prvih „velikih“ i „važnih“ pita
 nja s kojim se dijete susreće u svojem odrastanju. U početku odrasli sa bl
 agom dobrohotnošću gledaju na dječja razmišljanja o budućem zanimanju\, sh
 vaćajući ih kao puke\, bezazlene maštarije\, ali vrlo brzo\, pogotovo ako 
 je dijete vrlo „odlučno“ u svojim željama\, imaju potrebe da dijete usmjer
 e na „pravi kolosijek“. Predstava „Želim biti\, hoću biti“ na humorističan
  način donosi konflikt veselih dječjih maštanja o budućnosti djevojčice Li
 dije i racionalnih stavova njezinih roditelja koji pokušavaju kćerkicu upu
 titi na „prava zanimanja“\, dok ona kroz ples i pjesmu uživa u maštanju o 
 svom budućem životu. Predstava upozorava da svako dijete ima ne samo pravo
  na obrazovanje\, nego i na maštanje\, na želje koje su samo njegove\, a n
 ajvažnija poruka je da su sva zanimanja jednako vrijedna i jednako doprino
 se onome što svi želimo – sretnom i pravednom ljudskom društvu. Ne postoji
  najbolje zanimanje.„Važno je nekome pomoći! Kad nekome pomažeš taj čas im
 aš najbolje zanimanje na svijetu!“\nTekst: Hrvoje Zalar\nRežija: Marijana 
 Matoković\nScenografija i kostimografija: Danijela Gotal Grgurač\nGlazba: 
 Bojan Jambrošić\nScenski pokret: Maja Đurinović\nDizajn plakata: Martin Za
 lar\nIzrada kostima: Đurđica Huml i Antonija Lukinić\nTehnika: Aleksandar 
 Franjić i Marinko Šalković\nGlume:&nbsp\;Lidija Kraljić\,&nbsp\;Antonia Ša
 šo Brkanić\,&nbsp\;Hrvoje Zalar\nPRODUKCIJA: Kazalište Prijatelj\, Gradsko
  kazalište Sisak i Teatar CIRKUS Punkt\nCijena ulaznice: 3\,5 EUR / 26\,37
  knRezervacije: 034/273-161\, marketing@gkp.hr\, FBRadno vrijeme blagajne 
 kazališta – srijedom i petkom od 10 do 12 sati\, četvrtkom od 15 do 17 sat
 i\, te sat vremena prije početka predstave\n&nbsp\; https://www.gkp.hr/com
 ponent/rseventspro/event/675-treca-je-djecja-zelim-biti-hocu-biti
DTSTART:20230318T100000Z
DTEND:20230318T104000Z
LOCATION:Gradsko kazalište Požega (Trg Svetog Trojstva\, 34000\, Požega\, C
 roatia)
SUMMARY:Treća je dječja - Želim biti\, hoću biti 
URL:https://www.gkp.hr/component/rseventspro/event/675-treca-je-djecja-zeli
 m-biti-hocu-biti
END:VEVENT
END:VCALENDAR
