BEGIN:VCALENDAR
VERSION:2.0
PRODID:-//https://www.gkp.hr///NONSGML kigkonsult.se iCalcreator 2.10.15//
METHOD:PUBLISH
BEGIN:VEVENT
UID:20260425T205231UTC-4037BUXijP@https://www.gkp.hr/
DTSTAMP:20260425T205231Z
DESCRIPTION:'Samo jedna stvar dijeli ambicioznog menadžera Tibora od pravog
 a poslovnog uspjeha. Mora pronaći savršenoga gosta za šefovu mjesečnu zaba
 vu na kojoj pobjeđuje onaj tko dođe u pratnji ‘najvećeg idiota‘. Tiborova 
 zaručnica Tea to smatra nepriličnim i on odluči propustiti događaj dok ne 
 susretne Dragu\, radnika u poreznoj upravi koji u slobodno vrijeme izrađuj
 e slike s prepariranim miševima. U tom trenutku on shvaća da je naišao na 
 svojeg kandidata za večeru. Ne može odoljeti i poziva na zabavu Dragu čije
  dobre namjere uskoro Tiborov život pretvaraju u niz neprilika\, ugrozivši
  mu važan posao\, vrativši njegovu ludu bivšu djevojku natrag u njegov živ
 ot i otjeravši Teu u naručje drugog muškarca...'.\nPredstava za koju kažu 
 da je u rangu većine profesionalnih predstava ili bolja. Reakcije publike 
 su izvrsne i popraćene grohotnim smijehom. Hrvoje Podobnik Gero osvojio je
  nagradu za najboljeg amaterskog glumca u Zagrebu za ulogu idiota Drage. P
 redstava je nastala kao adaptacija filma 'Večera s idiotom' u kojoj glumi 
 Steve Carell.\nPrilagodio ju je David Guion\, prema originalu Francis Vebe
 ra\, režiju potpisuje Rebecca Agić. Igraju: Franjo Janeš - Tibor\, Hrvoje 
 Podobnik – Drago\, Duška Jurić - Tea\, Kristian Živčec - Adolf\, Nikolina 
 Črnek - Veronika\, Izabela Kisić - Anita\, Dora Cimić - asistentica\, Fili
 p Somek – Milivoj\, Valent Horvatek - Sven Muller\, Josipa Pranjić - Anđel
 a\, Eleonora Jerković – gospođa Muller.\nCijena ulaznice: 5 EUR / 37\,67 k
 nRezervacije: 034/273-161\, marketing@gkp.hr\, FBRadno vrijeme blagajne ka
 zališta – srijedom i petkom od 10 do 12 sati\, četvrtkom od 15 do 17 sati\
 , te sat vremena prije početka predstave https://www.gkp.hr/component/rsev
 entspro/event/720-vecera-s-idiotom-uo-tocka-na-i
DTSTART:20230607T180000Z
DTEND:20230607T191500Z
LOCATION:Gradsko kazalište Požega (Trg Svetog Trojstva\, 34000\, Požega\, C
 roatia)
SUMMARY:Večera s idiotom - UO Točka na I
URL:https://www.gkp.hr/component/rseventspro/event/720-vecera-s-idiotom-uo-
 tocka-na-i
END:VEVENT
END:VCALENDAR
