BEGIN:VCALENDAR
VERSION:2.0
PRODID:-//https://www.gkp.hr///NONSGML kigkonsult.se iCalcreator 2.10.15//
METHOD:PUBLISH
BEGIN:VEVENT
UID:20260424T222511UTC-31476KAnSB@https://www.gkp.hr/
DTSTAMP:20260424T222511Z
DESCRIPTION:Plemstva i kralja više nemamo\, al ???????? ????????\, ????? ??
 ?????\, ???? ??????? ? ????? ?̌????? su svejedno spremni oplest po svemu š
 ta ih okružuje kako bi pronašli humor u svakodnevnici\, sebi i svima nama 
 kroz sat i pol najboljih novih baza.?????? ?? ? ??????? ??. ???????? u ???
 ????? ???????̌?? ???̌???--------------------------------------------??????
  ???????? ??€ ?????? / ??€ ???????????????? ???????➡ https://core-event.co
 /.../pozega-dvorske-lude-novi-stand.../??????? ???????:➡ Blagajna kazališt
 a (srijeda i petak 10-12h\, četvrtak 15-17h te sat vremena prije početka p
 rograma)\, Info na 034/273-161.➡ TISAK Korzo (Cehovska 2\, Požega // pon-p
 et 07-22h / sub 08-23h) + dodatna naknada 1 euro➡ na ulazu prije početka a
 ko ih ostane---------------------------------------------??? ??/?̌?? ?? ??
 ???????????Pogledaj 'Stand-up po splicki' na YouTubeu i saznaj! ?-&gt\; ht
 tps://youtu.be/xBf21ZR0BzI???? ? ??????????:????? ??????? -&gt\; https://y
 outu.be/xBf21ZR0BzI?t=1684Ivica Lazaneo je trenutno najbolji brački komiča
 r. Trenutno je i jedini brački komičar. Uz hrvatski jezik fluentan je i u 
 engleskom i bračkom. Nikor ga nebi kapi njanci bokun da parlo po bročki\, 
 tako da nastupa na hrvatskom. Ima dva metra i ne\, ne igra košarku. Kao di
 jete je upao u bačvu sa čarobnim napitkom zbog čega sada ima problema sa a
 lkoholom. Svjestan je činjenice da ima blesavo ime\, ali ne mrzi ga. Mrzi 
 svoje roditelje jer su mu ga oni dali. Standupom se bavi samo zbog jedne s
 tvari: novca\, žena i slave. Smatra da će sve ostali doći samo od sebe. Pr
 odajem maslinovo ulje.????? ?????? -&gt\; https://youtu.be/xBf21ZR0BzI?t=1
 2Josip Škiljo je četrdesetogodišnji 'mladić' te član posljednje generacije
  Titovih pionira. Tita se to baš i nije dojmilo\, jer je bio mrtav. Nakon 
 završenog filozofskog fakulteta i uzalud stečene titule profesora hrvatsko
 g i engleskog jezika\, radi na raznim poslovima van struke. 2015. godine n
 akon stand up radionice i open mic-a polako skuplja nastupe i iskustvo u z
 agrebačkom Studiju smijeha\, a godinu dana kasnije postaje rezident komiča
 r. Ima iznimnu sposobnost preživljavanja\, jer toliko je toga izvalio i os
 tao živ. Kako je kronično neispavan\, često zaspe za stolom ili za šankom 
 u sred razgovora. Ljubitelj je adrenalina\, pa zato vozi biciklu po Splits
 kim ulicama. Životni cilj mu nije ostvariti američki\, već dalmatinski san
  – ne radit ništa!???????? ???????? -&gt\; https://youtu.be/xBf21ZR0BzI?t=
 4046Tomislav Primorac je mitološko biće kojega se svi purgeri boje – polud
 almatinac\, poluhercegovac. Diplomirani je fizičar\, ali se na razočarenje
  svojih roditelja bavi stand up komedijom. Životni san mu je da zbog svoji
 h doprinosa čovječanstvu u povijesti ostane zapamćen poput Nikole Tesle\, 
 ne toliko iz filantropskih pobuda\, nego čisto zato da bi se Dalmatinci i 
 Hercegovci svađali čiji je.Poprilično je skeptičan. Najmanje vjeruje ljudi
 ma&nbsp\;koji ga pokušavaju uvjerit s argumentom “viruj ti meni”.???? ????
 ??? -&gt\; https://youtu.be/xBf21ZR0BzI?t=3254Ante Travizi je 20 i jedanae
 stogodišnjak rodom iz Splita. Na prvu možda simpatičan i zabavan\, no nako
 n par tjedana ljudi shvate da je dosadni manijak. Pije espresso i kratkih 
 je živaca. Ima “blagi” poremećaj pažnje. Njegova majka tvrdi da je bio pla
 niran tokon rata. On nije naivan. Trenutno pokušava završiti faks\, a ne i
 de mu jer mu je život van faksa postao zabavan. Možda izgubi i pravo školo
 vanja zbog stand upa. Hrana mu je najdraža tema razgovora. Ako dođe do svj
 etskog rata\, preći će na stranu koja će imati kebab jer kebab sadrži kruh
 \, meso i umake što su zapravo esencije života.INFORMACIJE na splickascena
 @gmail.com&nbsp\; https://www.gkp.hr/component/rseventspro/event/782-dvors
 ke-lude-stand-up-show
DTSTART:20231122T190000Z
DTEND:20231122T203000Z
LOCATION:Gradsko kazalište Požega (Trg Svetog Trojstva\, 34000\, Požega\, C
 roatia)
SUMMARY:Dvorske lude - stand up show
URL:https://www.gkp.hr/component/rseventspro/event/782-dvorske-lude-stand-u
 p-show
END:VEVENT
END:VCALENDAR
