BEGIN:VCALENDAR
VERSION:2.0
PRODID:-//https://www.gkp.hr///NONSGML kigkonsult.se iCalcreator 2.10.15//
METHOD:PUBLISH
BEGIN:VEVENT
UID:20260420T115656UTC-0206USlWBU@https://www.gkp.hr/
DTSTAMP:20260420T115656Z
DESCRIPTION:Carlo Goldoni: Gostioničarka\nO predstavi:\nU jednom slavonskom
  gradu sredinom prošlog stoljeća\, u malom pansionu skupilo se šaroliko dr
 uštvo\, iz samo njima znanih razloga.Šarmantna vlasnica pansiona\, Ruža\, 
 svojom vedrinom i zavodljivošću očara sve goste pansiona. Osim jednog! Izn
 ervirana njegovim stavom prema ženama i njoj samoj\, odluči da će i njega 
 zavesti\, samo kako bi mu dokazala da nije imun na ženske čari.U urnebesno
 m zapletu punom predvidljivih i nepredvidljivih situacija\, u izvedbi izvr
 snih glumaca\, dotičemo se vječne teme muško-ženskih odnosa\, ženskih izbo
 ra\, prava i sloboda\; muške zatucanosti\, ali i očaranosti ženama.I sve t
 o uz obilje smijeha. Što ne isključuje ukazivanje na probleme svakog društ
 va kada je riječ o ženama i muškarcima. Jer dobra komedija zabavlja\, upoz
 orava\, uči\, osuđuje i opravdava! I donosi neočekivana rješenja.\nGlume:
 \nRužica Maurus……….. Gostioničarka RužaMarin Klišmanić……… Kapetan Lujo Bon
 aAntonio Jakupčević……. Gabor Fösveny Balatoni GrófGoran Malus…………… Gospodi
 n Antun SvinjarevićLena Medar……………. AnaAnabela Sulić………….. MarijanaIvan Vu
 kelić……………. FranjoMatko Trnačić………….. Mali\nAdaptacija teksta: Lada Kaštel
 an i Davor SvedružićRedatelj: Davor SvedružićScenografija i kostimografija
 : Marita ĆopoScenski pokret i koreografija: Maja HuberAutor glazbe: Tin To
 nkovićOblikovanje svjetla\, rasvjeta: Goran KrmpotićTon majstor: Dario Hak
 Rekviziterka: Marija MatijanićMajstor scene\, inspicijent: Renato PokGarde
 robijerka: Ljiljana RodićDizajn plakata: Denis TreskanicaFoto: Robert Demo
 \nProdukcija: Gradsko kazalište Požega\, listopad 2023.\nCijena ulaznice: 
 10 EUR (studenti i umirovljenici: 7 EUR )Informacije: 099/273-1616\,&nbsp\
 ;marketing@gkp.hr\, FB\nUlaznice se mogu kupiti u radno vrijeme blagajne k
 azališta – srijedom i petkom od 10 do 12 sati\, četvrtkom od 15 do 17 sati
 \, te sat vremena prije početka predstave https://www.gkp.hr/component/rse
 ventspro/event/818-gostionicarka-gradsko-kazaliste-pozega
DTSTART:20240214T190000Z
DTEND:20240214T210000Z
LOCATION:Gradsko kazalište Požega (Trg Svetog Trojstva\, 34000\, Požega\, C
 roatia)
SUMMARY:Gostioničarka - Gradsko kazalište Požega
URL:https://www.gkp.hr/component/rseventspro/event/818-gostionicarka-gradsk
 o-kazaliste-pozega
END:VEVENT
END:VCALENDAR
