BEGIN:VCALENDAR
VERSION:2.0
PRODID:-//https://www.gkp.hr///NONSGML kigkonsult.se iCalcreator 2.10.15//
METHOD:PUBLISH
BEGIN:VEVENT
UID:20260420T062202UTC-2969nZXfmz@https://www.gkp.hr/
DTSTAMP:20260420T062202Z
DESCRIPTION:Carevo novo ruho - gostovanje u HNK u Šibeniku\nIzvedbe su na p
 rogramu u 9.30 i 11.00 h\nRežija i adaptacija teksta: Ružica MaurusGlume: 
 Matko Trnačić\, Anabela Sulić\, Lena MedarScenografija: Marija Matijanić\,
  Renato PokOblikovanje rasvjete i ton: Goran KrmpotićKoreografija: Laura L
 ončarKostimi: Ljiljana Rodić\n''Carevo novo ruho'' jedna je od najpoznatij
 ih bajki Hansa Christiana Andersena\, danskog pisca i tvorca najvećih umje
 tničkih djela namijenjenih djeci.Ova bajka priča je o caru koji je\, umjes
 to o narodu i svome gradu\, mario samo za to kako će se odjenuti koji dan\
 , kakve će cipele obuti te kako će mirisati. Bio je opterećen materijalnim
  dobrima\, umjesto da bude dobar car svojemu narodu i slugama. I tako\, je
 dnoga dana dođu dvije varalice na dvor te se caru predstave kao vrhunski t
 kalci i obećaju mu da će mu napraviti savršeno odijelo za povorku\, no nag
 lase caru kako će odijelo biti nevidljivo za glupe ljude. Car\, oduševljen
 \, odmah im dade mnogo novca\, zlatnika i materijala te tkalci krenu šiti 
 caru novo\, savršeno odijelo… Hoće li se caru svidjeti novo ruho? Tko će m
 oći vidjeti odijelo\, a za koga će biti nevidljivo? Pogledajte u našoj nov
 oj predstavi ''Carevo novo ruho''!\nZa dob : 4+ https://www.gkp.hr/compone
 nt/rseventspro/event/839-carevo-novo-ruho-gostovanje-u-sibeniku
DTSTART;VALUE=DATE:20240409
LOCATION:HNK u Šibeniku ()
SUMMARY:Carevo novo ruho - gostovanje u Šibeniku
URL:https://www.gkp.hr/component/rseventspro/event/839-carevo-novo-ruho-gos
 tovanje-u-sibeniku
END:VEVENT
END:VCALENDAR
