BEGIN:VCALENDAR
VERSION:2.0
PRODID:-//https://www.gkp.hr///NONSGML kigkonsult.se iCalcreator 2.10.15//
METHOD:PUBLISH
BEGIN:VEVENT
UID:20260421T234438UTC-5962sNgUJg@https://www.gkp.hr/
DTSTAMP:20260421T234438Z
DESCRIPTION:Carlo Goldoni: Gostioničarka\nO predstavi: U jednom slavonskom 
 gradu sredinom prošlog stoljeća\, u malom pansionu skupilo se šaroliko dru
 štvo\, iz samo njima znanih razloga.Šarmantna vlasnica pansiona\, Ruža\, s
 vojom vedrinom i zavodljivošću očara sve goste pansiona. Osim jednog! Izne
 rvirana njegovim stavom prema ženama i njoj samoj\, odluči da će i njega z
 avesti\, samo kako bi mu dokazala da nije imun na ženske čari.U urnebesnom
  zapletu punom predvidljivih i nepredvidljivih situacija\, u izvedbi izvrs
 nih glumaca\, dotičemo se vječne teme muško-ženskih odnosa\, ženskih izbor
 a\, prava i sloboda\; muške zatucanosti\, ali i očaranosti ženama.I sve to
  uz obilje smijeha. Što ne isključuje ukazivanje na probleme svakog društv
 a kada je riječ o ženama i muškarcima. Jer dobra komedija zabavlja\, upozo
 rava\, uči\, osuđuje i opravdava! I donosi neočekivana rješenja.\nGlume:\n
 Ružica Maurus……….. Gostioničarka RužaMarin Klišmanić……… Kapetan Lujo BonaA
 ntonio Jakupčević……. Gabor Fösveny Balatoni GrófGoran Malus…………… Gospodin 
 Antun SvinjarevićLena Medar……………. AnaAnabela Sulić………….. MarijanaIvan Vuke
 lić……………. FranjoMatko Trnačić………….. Mali\nAdaptacija teksta: Lada Kaštelan
  i Davor SvedružićRedatelj: Davor SvedružićScenografija i kostimografija: 
 Marita ĆopoScenski pokret i koreografija: Maja HuberAutor glazbe: Tin Tonk
 ovićOblikovanje svjetla\, rasvjeta: Goran KrmpotićTon majstor: Dario HakRe
 kviziterka: Marija MatijanićMajstor scene\, inspicijent: Renato PokGardero
 bijerka: Ljiljana RodićDizajn plakata: Denis TreskanicaFoto: Robert Demo\n
 Produkcija: Gradsko kazalište Požega\, listopad 2023.\nCijena ulaznice: 10
  EUR (studenti i umirovljenici: 7 EUR )\nProdaja ulaznica u radno vrijeme 
 blagajne kazališta:&nbsp\;srijedom i petkom od 10 do 12 sati\, četvrtkom o
 d 15 do 17 sati\, te sat vremena prije početka predstave\nKontakt: 099 273
  1616\nKlikni i kupi ulaznicu online! https://www.gkp.hr/component/rsevent
 spro/event/843-gostionicarka-gradsko-kazaliste-pozega
DTSTART:20240428T170000Z
DTEND:20240428T190000Z
LOCATION:Gradsko kazalište Požega (Trg Svetog Trojstva\, 34000\, Požega\, C
 roatia)
SUMMARY:Gostioničarka - Gradsko kazalište Požega
URL:https://www.gkp.hr/component/rseventspro/event/843-gostionicarka-gradsk
 o-kazaliste-pozega
END:VEVENT
END:VCALENDAR
