BEGIN:VCALENDAR
VERSION:2.0
PRODID:-//https://www.gkp.hr///NONSGML kigkonsult.se iCalcreator 2.10.15//
METHOD:PUBLISH
BEGIN:VEVENT
UID:20260423T171939UTC-7771DC0XbT@https://www.gkp.hr/
DTSTAMP:20260423T171939Z
DESCRIPTION:U 11 sati - Premijera / mlađe dobne skupine\nCijena ulaznice: 4
  EUR https://www.gkp.hr/component/rseventspro/event/864-budimo-kreativni-b
 udimo-svoji-uo-plesna-radionica-ilijane-loncar
DTSTART:20240615T090000Z
DTEND:20240615T103000Z
LOCATION:Gradsko kazalište Požega (Trg Svetog Trojstva\, 34000\, Požega\, C
 roatia)
SUMMARY:Budimo kreativni! Budimo svoji! - UO Plesna radionica Ilijane Lonča
 r
URL:https://www.gkp.hr/component/rseventspro/event/864-budimo-kreativni-bud
 imo-svoji-uo-plesna-radionica-ilijane-loncar
END:VEVENT
END:VCALENDAR
