BEGIN:VCALENDAR
VERSION:2.0
PRODID:-//https://www.gkp.hr///NONSGML kigkonsult.se iCalcreator 2.10.15//
METHOD:PUBLISH
BEGIN:VEVENT
UID:20260425T122051UTC-8214DLO9kd@https://www.gkp.hr/
DTSTAMP:20260425T122051Z
DESCRIPTION:„To je za naše dobro“ pokazna je predstava Male škole kazališta
  za kraj sezone 2023./2024. Simbolično uz kraj školske godine\, u formatu 
 televizijske emisije\, radnja prati učenike jedne fiktivne osnovne škole k
 oji svatko na svoj način doživljavaju školske obaveze i probleme koje im o
 ne donose. Kako se koji od tipova učenika nose sa problemima u društvu\, š
 kolskim obavezama\, uz sve to i pritiskom ili podrškom od strane roditelja
 \, publika će imati priliku saznati u srijedu 12. 6. 2024. na premijeri u 
 Gradskom kazalištu Požega.Dođite i svojom pažnjom podržite mlade glumačke 
 snage našeg kazališta\, ali i poslušajte što vam oni to imaju za reći\, je
 r To je za njihovo dobro! Oni su:Petra Aračić\, Mila Begić\, Lana Bilmez\,
  Franka Boić\, Marta Domičić\, Marija Glasnović\, Anja Lea Hak\, Korina Ke
 ller\, Natali Komadina\, Karla Najvirt\, Sara Nedić\, Katarina Nosić\, Ena
  Matić\, Iva Papac\, Dora Rastić\, Gabriela Žiška\, Kiara Novak\, Anamarij
 a Bošnjak\, Lovro Budim\, Leon Baretić\, Leon Božić i Karlo Milinković+ Ko
 rnelija Marks\nAutori: Ines Škuflić-Horvat &amp\; grupa\nMentorstvo i reži
 ja: Anabela Sulić\nCijena ulaznice: 4 EUR\nRezervacija i prodaja ulaznica 
 isključivo u radno vrijeme blagajne kazališta: srijedom i petkom od 10 do 
 12 sati\, četvrtkom od 15 do 17 sati\, te sat vremena prije početka predst
 ave\nKontakt: 099 273 1616 https://www.gkp.hr/component/rseventspro/event/
 871-to-je-za-nase-dobro-mala-skola-kazalista-1
DTSTART:20240612T160000Z
DTEND:20240612T164000Z
LOCATION:Gradsko kazalište Požega (Trg Svetog Trojstva\, 34000\, Požega\, C
 roatia)
SUMMARY:To je za naše dobro - Mala škola kazališta 1
URL:https://www.gkp.hr/component/rseventspro/event/871-to-je-za-nase-dobro-
 mala-skola-kazalista-1
END:VEVENT
END:VCALENDAR
