BEGIN:VCALENDAR
VERSION:2.0
PRODID:-//https://www.gkp.hr///NONSGML kigkonsult.se iCalcreator 2.10.15//
METHOD:PUBLISH
BEGIN:VEVENT
UID:20260423T085808UTC-40262We8Bm@https://www.gkp.hr/
DTSTAMP:20260423T085808Z
DESCRIPTION:Komedija “Kokoš” Nikolaja Koljade satkana je od pet fantastični
 h karaktera koji nam u međusobnim duhovitim i strastvenim obračunima donos
 e sav sjaj i bijedu života - onog bračnog\, kazališnog\, ljubavnog i izvan
 bračnog\, tužnog i smiješnog. Događa se u kazališnom stanu\, sudionici su 
 tri glumice te jedan poluglumac i jedan propali redatelj\, a njihove ispre
 pletene odnose lako čitamo u univerzalnom ključu\; te ih svatko od nas mož
 e prepoznati u vlastitom životu. Možda samo zbog toga što su svi oni kazal
 išni ljudi\, ranjivi\, frustrirani\, opaki\, duhoviti\, zajedljivi\, komič
 ni\, skloni dramatiziranju\, redaju pred našim očima prizore protkane salv
 om emocija\, strastvenim svađama i mirenjima\, navikli na to da ih život n
 e mazi previše\, pa su i oni brutalno iskreni jedni prema drugima i prema 
 svemu onom što čini njihov život. No svatko od njih proživljavajući katarz
 u i veliku transformaciju postaje pred nama prava slika i mjera ljudskosti
 . Na ovoj blatnoj kugli u našim kratkim životima nije nam dano puno\, imam
 o samo vlastito iskustvo susreta s ljudima i samo o našoj spremnosti da ču
 jemo drugoga i o našoj toplini i susretljivosti ovisi koliko ćemo vrijedan
  život živjeti i koliko će u njemu biti smisla. To je ono što nam Koljadin
 i likovi poručuju i ako je kazalište ogledalo svijeta onda ćemo se u njima
  ogledati\, a možda i prepoznati\, svatko na svoj način.Boris Svrtan\nauto
 r teksta: Nikolaj Koljadaprevoditelj: Vladimir Gerićrežija i adaptacija te
 ksta: Boris Svrtanglume: Ines Bojanić\, Anabela Sulić\, Ivica Pucar\, Anto
 nija Stanišić Šperanda\, Ivan Vukelić\nglasovi susjeda: Mihael Kovačević\,
  Kornelija Marks\, Karla Malčić\, Kazimir Semunović\, Boris Svrtankostimog
 rafija: Marita Ćoposcenografija: Frane Celićizbor glazbe: Boris Svrtanobli
 kovanje svjetla\, rasvjeta: Goran Krmpotićton majstor: Dario Hakrekviziter
 ka: Marija Matijanićmajstor scene\, inspicijent: Renato Pokgarderobijerka:
  Ljiljana Rodićdizajn plakata: Denis Treskanicafotografije: Robert Demopro
 ducentica: Valentina Neferovićprodukcija: Gradsko kazalište Požega\, listo
 pad 2024.\nProgram je ostvaren uz potporu Ministarstva kulture i medija RH
 .\nCijena ulaznice: 10 EUR (studenti i umirovljenici: 7 EUR)\nKlikni i kup
 i ulaznicu online!&nbsp\;\nProdaja ulaznica u radno vrijeme blagajne kazal
 išta: srijedom i petkom od 10 do 12 sati\, četvrtkom od 15 do 17 sati\, te
  sat vremena prije početka predstave.\nKontakt: 099 273 1616 https://www.g
 kp.hr/component/rseventspro/event/898-kokos-gradsko-kazaliste-pozega-pretp
 remijera
DTSTART:20241016T180000Z
DTEND:20241016T192000Z
LOCATION:Gradsko kazalište Požega (Trg Svetog Trojstva\, 34000\, Požega\, C
 roatia)
SUMMARY:Kokoš - Gradsko kazalište Požega / pretpremijera
URL:https://www.gkp.hr/component/rseventspro/event/898-kokos-gradsko-kazali
 ste-pozega-pretpremijera
END:VEVENT
END:VCALENDAR
