BEGIN:VCALENDAR
VERSION:2.0
PRODID:-//https://www.gkp.hr///NONSGML kigkonsult.se iCalcreator 2.10.15//
METHOD:PUBLISH
BEGIN:VEVENT
UID:20260420T195109UTC-9917FB8ac3@https://www.gkp.hr/
DTSTAMP:20260420T195109Z
DESCRIPTION:Drvo bajki/ Poštarska bajka - gostovanje u Velikoj\nDramatizaci
 ja teksta i režija: Dario HakIzvode: Marina Polgar Sabljo\, Klara Malčić\,
  Kornelija Marks\, Mihael Kovačević\n&nbsp\; https://www.gkp.hr/component/
 rseventspro/event/901-drvo-bajki-postarska-bajka-gostovanje-u-velikoj
DTSTART:20241007T160000Z
DTEND:20241007T163000Z
LOCATION:Interpretacijski centar Terra Panonica  (Trg Zrinskog i Frankopana
  4\, Pleternica)
SUMMARY:Drvo bajki / Poštarska bajka - gostovanje u Velikoj
URL:https://www.gkp.hr/component/rseventspro/event/901-drvo-bajki-postarska
 -bajka-gostovanje-u-velikoj
END:VEVENT
END:VCALENDAR
