BEGIN:VCALENDAR
VERSION:2.0
PRODID:-//https://www.gkp.hr///NONSGML kigkonsult.se iCalcreator 2.10.15//
METHOD:PUBLISH
BEGIN:VEVENT
UID:20260423T123546UTC-9128KF9wgn@https://www.gkp.hr/
DTSTAMP:20260423T123546Z
DESCRIPTION:O predstavi:'Ovan &amp\; Luka' je dirljiva i zabavna dječja pre
 dstava koja donosi priču o malom dječaku Luki\, koji unatoč tome što je na
 jmanji u svom selu\, ima velike snove – želi postati nogometaš. Ključni tr
 enutak dolazi kada se Luka suočava s odbijanjem na nogometnom terenu jer j
 e 'previše malen'. Kroz avanture s njegovim prijateljem Ovanom\, dobrodušn
 im\, ali nespretnim&nbsp\;pomagačem\, Luka uči o upornosti\, hrabrosti i v
 rijednosti zdrave prehrane.Posebna atrakcija predstave je Lukin i Ovnov tr
 ening\, gdje Ovan postaje Lukin nogometni&nbsp\;mentor\, približavajući ga
  sve više njegovim snovima. Inspiriran legendarnim nogometašima\,&nbsp\;Ov
 an uči Luku legendarnim potezima i lažnjacima Zvonimira Bobana\, Roberta P
 rosinečkog i&nbsp\;Zinedinea Zidanea. Kroz ove treninge Luka otkriva vrije
 dnost tehnike\, upornosti i posvećenosti\, no uči i da uspjeh dolazi korak
  po korak\, uz stalno usavršavanje i vježbu. Na kraju\, uz podršku Ovna\, 
 ali najviše zbog svoje upornosti Luka ostvaruje svoj san i postaje član re
 prezentacije – inspirirajući mlade gledatelje da se i sami trude postići s
 voje ciljeve.Scenski elementi su jednostavni\, ali maštoviti – bijele čupa
 ve lopte prikazuju ovce i kamenje\, a pozadina nosi detalje iz Lukine prič
 e. Djeca će se povezati s Lukom\, koji prolazi kroz izazove poznate svima 
 – osjećaj neprihvaćenosti zbog toga što je drugačiji\, ali i radost koju d
 onosi prijateljstvo i zajednička podrška.Predstava obiluje šarmantnim i sm
 iješnim scenama\, od Ovnove prve interakcije sa slušalicama do njegova neo
 bičnog stila igranja nogometa.\nLikovi:Luka\, glumi: Borna Galinović – pro
 fesionalni glumac u Lutkarskom kazalištu Zagreb.Ovan\, glumi: Hrvoje Podob
 nik Gero – filmski i kazališni autor\, nagrađivan za najboljeg&nbsp\;amter
 skog glumca\, autor nagrađivanih filmova.\nKreativni tim:Producent\, drams
 ki tekst: Hrvoje Podobnik Gero\, Redatelj: Rebecca AgićGlazba: Hrvoje P. G
 ero\, SUNO AI\, Scenografija: Hrvoje P. Gero\, RunwayML\, Kostimografija:P
 etra Grgić\, Irena Rosančić\, Hrvoje P. Gero\, Dizajn: Hrvoje Podobnik Ger
 o\, Tihomir Hrlić\,ChatGPT\nUzrast: 5+\nCijena ulaznice: 5 EUR\nKlikni i k
 upi ulaznicu online!&nbsp\;\nProdaja ulaznica isključivo u radno vrijeme b
 lagajne kazališta: srijedom i petkom od 10 do 12 sati\, četvrtkom od 15 do
  17 sati\, te sat vremena prije početka predstave\nKontakt: 099 273 1616 h
 ttps://www.gkp.hr/component/rseventspro/event/927-ovan-luka-teatar-7
DTSTART:20250118T100000Z
DTEND:20250118T103500Z
LOCATION:Gradsko kazalište Požega (Trg Svetog Trojstva\, 34000\, Požega\, C
 roatia)
SUMMARY:Ovan & Luka - Teatar 7
URL:https://www.gkp.hr/component/rseventspro/event/927-ovan-luka-teatar-7
END:VEVENT
END:VCALENDAR
