BEGIN:VCALENDAR
VERSION:2.0
PRODID:-//https://www.gkp.hr///NONSGML kigkonsult.se iCalcreator 2.10.15//
METHOD:PUBLISH
BEGIN:VEVENT
UID:20260423T103521UTC-8041fslWHz@https://www.gkp.hr/
DTSTAMP:20260423T103521Z
DESCRIPTION:Komedija 'Kokoš' stiže u Kutjevo\nKomedija “Kokoš” Nikolaja Kol
 jade satkana je od pet fantastičnih karaktera koji nam u međusobnim duhovi
 tim i strastvenim obračunima donose sav sjaj i bijedu života - onog bračno
 g\, kazališnog\, ljubavnog i izvanbračnog\, tužnog i smiješnog. Događa se 
 u kazališnom stanu\, sudionici su tri glumice te jedan poluglumac i jedan 
 propali redatelj\, a njihove isprepletene odnose lako čitamo u univerzalno
 m ključu\; te ih svatko od nas može prepoznati u vlastitom životu. Možda s
 amo zbog toga što su svi oni kazališni ljudi\, ranjivi\, frustrirani\, opa
 ki\, duhoviti\, zajedljivi\, komični\, skloni dramatiziranju\, redaju pred
  našim očima prizore protkane salvom emocija\, strastvenim svađama i miren
 jima\, navikli na to da ih život ne mazi previše\, pa su i oni brutalno is
 kreni jedni prema drugima i prema svemu onom što čini njihov život. No sva
 tko od njih proživljavajući katarzu i veliku transformaciju postaje pred n
 ama prava slika i mjera ljudskosti. Na ovoj blatnoj kugli u našim kratkim 
 životima nije nam dano puno\, imamo samo vlastito iskustvo susreta s ljudi
 ma i samo o našoj spremnosti da čujemo drugoga i o našoj toplini i susretl
 jivosti ovisi koliko ćemo vrijedan život živjeti i koliko će u njemu biti 
 smisla. To je ono što nam Koljadini likovi poručuju i ako je kazalište ogl
 edalo svijeta onda ćemo se u njima ogledati\, a možda i prepoznati\, svatk
 o na svoj način.Boris Svrtan\nautor teksta: Nikolaj Koljadaprevoditelj: Vl
 adimir Gerićrežija i adaptacija teksta: Boris Svrtanglume: Ines Bojanić\, 
 Anabela Sulić\, Ivica Pucar\, Antonija Stanišić Šperanda\, Ivan Vukelićgla
 sovi susjeda: Mihael Kovačević\, Kornelija Marks\, Karla Malčić\, Kazimir 
 Semunović\, Boris Svrtankostimografija: Marita Ćoposcenografija: Frane Cel
 ićizbor glazbe: Boris Svrtanoblikovanje svjetla\, rasvjeta: Goran Krmpotić
 ton majstor: Dario Hakrekviziterka: Marija Matijanićmajstor scene\, inspic
 ijent: Renato Pokgarderobijerka: Ljiljana Rodićdizajn plakata: Denis Tresk
 anicafotografije: Robert Demoproducentica: Valentina NeferovićCIJENA ULAZN
 ICE: 8 EUR\nKlikni i kupi ulaznicu online!\nUlaznice je moguće kupiti i na
  dan predstave na blagajni kinodvorane Kutjevo. Blagajna je otvorena od 18
 .00 h.Informacije: 099 273 1616&nbsp\; https://www.gkp.hr/component/rseven
 tspro/event/929-kokos-u-kutjevu
DTSTART:20250116T180000Z
DTEND:20250116T192000Z
LOCATION:Kutjevo kino dvorana (Kutjevo)
SUMMARY:KOKOŠ u Kutjevu
URL:https://www.gkp.hr/component/rseventspro/event/929-kokos-u-kutjevu
END:VEVENT
END:VCALENDAR
