BEGIN:VCALENDAR
VERSION:2.0
PRODID:-//https://www.gkp.hr///NONSGML kigkonsult.se iCalcreator 2.10.15//
METHOD:PUBLISH
BEGIN:VEVENT
UID:20260422T155945UTC-0999hkFnKR@https://www.gkp.hr/
DTSTAMP:20260422T155945Z
DESCRIPTION:UO Plesna radionica Ilijane Lončar planira u povodu 25 obljetni
 ce rada realizirati projekt naziva „ ZAIGRANA TIJELA“ u sklopu 19. zimske 
 produkcije. Projekt obuhvaća preko150 plesača koji su umjetničko edukacijs
 ki program vođen od strane samostalne umjetnice\, plesne pedagoginje i kor
 eografkinje Ilijane Lončar provodili tijekom 5 mjeseci ( rujan - siječanj)
 \, a javne prezentacije kreiranog programa su predviđene u Gradskom kazali
 štu Požega 25. i 26. siječnja 2025. u 11 i 18 sati uz tehničku podršku Gra
 dskog kazališta Požega. Raznovrsne teme primjerene uzrastu plesača\, njih 
 otplesat će se premijerno i reprizno u Požegi te gostovati na Šibenskom pl
 esnom festivalu\, Festivalu malih plesnih formi u Zagrebu \, Susretu plesn
 ih ansambala Hrvatske\, Trešnjevačkim plesnim susretima\, Požeškom kulturn
 om ljetu\, a fragmentarno ćemo s koreografijama gostovati na festivalima\,
  natjecanjima\, produkcijama i susretima diljem Hrvatske.\n* 25. siječnja 
 2025. (subota)*11 sati - premijera - mlađe dobne skupine(od 3 - 6 god. uz 
 soliste Mihaela Đevića\, Franku Šubaru\, Zaru Šubaru\, Nelu Knežević i Kar
 lu Mežnarić)\n18 sati - premijera - starije dobne skupine (od 1. razreda O
 Š do srednjoškolaca)______________________________________________*26. sij
 ečnja 2025. (nedjelja)*11 sati - repriza- mlađe dobne skupine18 sati - rep
 riza - starije dobne skupine\nUlaznice po cijeni od 4 EUR možete rezervira
 ti putem obrasca na&nbsp\;www.ilijanaloncar.hr\, te ih podići u Dubrovačko
 j 65a (plesna dvorana) u terminima: 17. siječnja (petak) 19:00 - 21:00 i 1
 8. siječnja (subota) 9:00 - 11:00.\nAutorski tim:Umjetničko - pedagoško vo
 dstvo i odabir glazbe: Ilijana LončarRasvjeta: Goran KrmpotićTon i video p
 rojekcije: Dario HakFotografija: Mladen BožičkovićDesign promidžbenog mate
 rijala: Antun HiršmanKostimi: Ena Štefek i NTS Dancewear (Zagreb)Inspicije
 nt: Laura LončarVideo prijenos uživo: d &amp\; b mediaBackstage ekipa: Mir
 jana Kalem\, Marina Ivanković i plesači starijih grupa\nGlavni cilj projek
 ta je razvoj plesnog odgoja djece i mladih koja su stručno\, pedagoški vođ
 ena kroz plesnu edukaciju\, senzibiliziranje javnosti na umjetnički plesni
  izričaj\, stvaranje zahtjevne plesne publike\, prezentacija kvalitetnih k
 oreografija rađenih u skladu s psiho – fizičkim sposobnostima djece i mlad
 ih u odnosu na njihov uzrast\, poticanje kreativnosti\, radne discipline i
  uvažavanja međusobnih različitosti. https://www.gkp.hr/program/event/931-
 19-zimska-produkcija-uo-plesna-radionica-ilijane-loncar
DTSTART:20250125T100000Z
DTEND:20250125T110000Z
LOCATION:Gradsko kazalište Požega (Trg Svetog Trojstva\, 34000\, Požega\, C
 roatia)
SUMMARY:19. Zimska produkcija - UO Plesna radionica Ilijane Lončar
URL:https://www.gkp.hr/program/event/931-19-zimska-produkcija-uo-plesna-rad
 ionica-ilijane-loncar
END:VEVENT
BEGIN:VEVENT
UID:20260422T155945UTC-1003uttgNp@https://www.gkp.hr/
DTSTAMP:20260422T155945Z
DESCRIPTION:UO Plesna radionica Ilijane Lončar planira u povodu 25 obljetni
 ce rada realizirati projekt naziva „ ZAIGRANA TIJELA“ u sklopu 19. zimske 
 produkcije. Projekt obuhvaća preko150 plesača koji su umjetničko edukacijs
 ki program vođen od strane samostalne umjetnice\, plesne pedagoginje i kor
 eografkinje Ilijane Lončar provodili tijekom 5 mjeseci ( rujan - siječanj)
 \, a javne prezentacije kreiranog programa su predviđene u Gradskom kazali
 štu Požega 25. i 26. siječnja 2025. u 11 i 18 sati uz tehničku podršku Gra
 dskog kazališta Požega. Raznovrsne teme primjerene uzrastu plesača\, njih 
 otplesat će se premijerno i reprizno u Požegi te gostovati na Šibenskom pl
 esnom festivalu\, Festivalu malih plesnih formi u Zagrebu \, Susretu plesn
 ih ansambala Hrvatske\, Trešnjevačkim plesnim susretima\, Požeškom kulturn
 om ljetu\, a fragmentarno ćemo s koreografijama gostovati na festivalima\,
  natjecanjima\, produkcijama i susretima diljem Hrvatske.\n* 25. siječnja 
 2025. (subota)*11 sati - premijera - mlađe dobne skupine(od 3 - 6 god. uz 
 soliste Mihaela Đevića\, Franku Šubaru\, Zaru Šubaru\, Nelu Knežević i Kar
 lu Mežnarić)\n18 sati - premijera - starije dobne skupine (od 1. razreda O
 Š do srednjoškolaca)______________________________________________*26. sij
 ečnja 2025. (nedjelja)*11 sati - repriza- mlađe dobne skupine18 sati - rep
 riza - starije dobne skupine\nUlaznice po cijeni od 4 EUR možete rezervira
 ti putem obrasca na&nbsp\;www.ilijanaloncar.hr\, te ih podići u Dubrovačko
 j 65a (plesna dvorana) u terminima: 17. siječnja (petak) 19:00 - 21:00 i 1
 8. siječnja (subota) 9:00 - 11:00.\nAutorski tim:Umjetničko - pedagoško vo
 dstvo i odabir glazbe: Ilijana LončarRasvjeta: Goran KrmpotićTon i video p
 rojekcije: Dario HakFotografija: Mladen BožičkovićDesign promidžbenog mate
 rijala: Antun HiršmanKostimi: Ena Štefek i NTS Dancewear (Zagreb)Inspicije
 nt: Laura LončarVideo prijenos uživo: d &amp\; b mediaBackstage ekipa: Mir
 jana Kalem\, Marina Ivanković i plesači starijih grupa\nGlavni cilj projek
 ta je razvoj plesnog odgoja djece i mladih koja su stručno\, pedagoški vođ
 ena kroz plesnu edukaciju\, senzibiliziranje javnosti na umjetnički plesni
  izričaj\, stvaranje zahtjevne plesne publike\, prezentacija kvalitetnih k
 oreografija rađenih u skladu s psiho – fizičkim sposobnostima djece i mlad
 ih u odnosu na njihov uzrast\, poticanje kreativnosti\, radne discipline i
  uvažavanja međusobnih različitosti. https://www.gkp.hr/program/event/932-
 19-zimska-produkcija-uo-plesna-radionica-ilijane-loncar
DTSTART:20250125T170000Z
DTEND:20250125T180000Z
LOCATION:Gradsko kazalište Požega (Trg Svetog Trojstva\, 34000\, Požega\, C
 roatia)
SUMMARY:19. Zimska produkcija - UO Plesna radionica Ilijane Lončar
URL:https://www.gkp.hr/program/event/932-19-zimska-produkcija-uo-plesna-rad
 ionica-ilijane-loncar
END:VEVENT
END:VCALENDAR
