BEGIN:VCALENDAR
VERSION:2.0
PRODID:-//https://www.gkp.hr///NONSGML kigkonsult.se iCalcreator 2.10.15//
METHOD:PUBLISH
BEGIN:VEVENT
UID:20260423T224932UTC-3346NEBm8L@https://www.gkp.hr/
DTSTAMP:20260423T224932Z
DESCRIPTION:Autor bajke “Djevojčica sa šibicama” danski je pisac Hans Chris
 tian Andersen. Ova bajka priča je o maloj siromašnoj djevojčici koja je na
 stojala prodati šibice jer joj je to naredio strogi otac. Nije se smjela v
 ratiti kući dok to ne bi učinila jer bi dobila batine. Trudila se prodati 
 šibice\, ali zbog hladnoće umire na smrznutom pločniku. Pokušala se ugrija
 ti posljednjim šibicama koje je držala u ruci i kada bi svaku zapalila uka
 zali bi se oni događaji o kojima je uvijek sanjala.Režija i adaptacija tek
 sta: Ružica MaurusČitaju: Matko Trnačić\, Ružica Maurus i Anabela SulićSce
 nografija: Marija Matijanić i Renato PokRasvjeta i ton: Goran KrmpotićKost
 imi: Ljiljana RodićKako bajka zvuči prema adaptaciji požeške glumice Ružic
 e Maurus\, a u izvedbi Anabele Sulić\, Matka Trnačića i Ružice Maurus\, po
 slušajte i pogledajte u nedjelju 31. siječnja 2021. godine s početkom u 10
 .00 h.Za dob: 4+Broj gledatelja u dvorani je ograničen i iznosi 21.Cijena 
 ulaznice je 20\,00 kn.Informacije i rezervacije na broj 034/273-161.(Progr
 am se održava uz poštivanje propisanih epidemioloških mjera.) https://www.
 gkp.hr/program/event/435-drvo-bajki-djevojcica-sa-sibicama
DTSTART:20210131T090000Z
DTEND:20210131T093000Z
LOCATION:Gradsko kazalište Požega (Trg Svetog Trojstva\, 34000\, Požega\, C
 roatia)
SUMMARY:DRVO BAJKI - Djevojčica sa šibicama
URL:https://www.gkp.hr/program/event/435-drvo-bajki-djevojcica-sa-sibicama
END:VEVENT
BEGIN:VEVENT
UID:20260423T224932UTC-33506V1V5G@https://www.gkp.hr/
DTSTAMP:20260423T224932Z
DESCRIPTION:Autor bajke “Djevojčica sa šibicama” danski je pisac Hans Chris
 tian Andersen. Ova bajka priča je o maloj siromašnoj djevojčici koja je na
 stojala prodati šibice jer joj je to naredio strogi otac. Nije se smjela v
 ratiti kući dok to ne bi učinila jer bi dobila batine. Trudila se prodati 
 šibice\, ali zbog hladnoće umire na smrznutom pločniku. Pokušala se ugrija
 ti posljednjim šibicama koje je držala u ruci i kada bi svaku zapalila uka
 zali bi se oni događaji o kojima je uvijek sanjala.Režija i adaptacija tek
 sta: Ružica MaurusČitaju: Matko Trnačić\, Ružica Maurus i Anabela SulićSce
 nografija: Marija Matijanić i Renato PokRasvjeta i ton: Goran KrmpotićKost
 imi: Ljiljana RodićKako bajka zvuči prema adaptaciji požeške glumice Ružic
 e Maurus\, a u izvedbi Anabele Sulić\, Matka Trnačića i Ružice Maurus\, po
 slušajte i pogledajte u nedjelju 31. siječnja 2021. godine s početkom u 10
 .00 h.Za dob: 4+Broj gledatelja u dvorani je ograničen i iznosi 21.Cijena 
 ulaznice je 20\,00 kn.Informacije i rezervacije na broj 034/273-161.(Progr
 am se održava uz poštivanje propisanih epidemioloških mjera.) https://www.
 gkp.hr/program/event/436-drvo-bajki-djevojcica-sa-sibicama
DTSTART:20210131T170000Z
DTEND:20210131T173000Z
LOCATION:Gradsko kazalište Požega (Trg Svetog Trojstva\, 34000\, Požega\, C
 roatia)
SUMMARY:DRVO BAJKI - Djevojčica sa šibicama
URL:https://www.gkp.hr/program/event/436-drvo-bajki-djevojcica-sa-sibicama
END:VEVENT
BEGIN:VEVENT
UID:20260423T224932UTC-3352iCtNAv@https://www.gkp.hr/
DTSTAMP:20260423T224932Z
DESCRIPTION:Autor bajke “Djevojčica sa šibicama” danski je pisac Hans Chris
 tian Andersen. Ova bajka priča je o maloj siromašnoj djevojčici koja je na
 stojala prodati šibice jer joj je to naredio strogi otac. Nije se smjela v
 ratiti kući dok to ne bi učinila jer bi dobila batine. Trudila se prodati 
 šibice\, ali zbog hladnoće umire na smrznutom pločniku. Pokušala se ugrija
 ti posljednjim šibicama koje je držala u ruci i kada bi svaku zapalila uka
 zali bi se oni događaji o kojima je uvijek sanjala.Režija i adaptacija tek
 sta: Ružica MaurusČitaju: Matko Trnačić\, Ružica Maurus i Anabela SulićSce
 nografija: Marija Matijanić i Renato PokRasvjeta i ton: Goran KrmpotićKost
 imi: Ljiljana RodićKako bajka zvuči prema adaptaciji požeške glumice Ružic
 e Maurus\, a u izvedbi Anabele Sulić\, Matka Trnačića i Ružice Maurus\, po
 slušajte i pogledajte u nedjelju 31. siječnja 2021. godine s početkom u 12
 .00 h.Za dob: 4+Broj gledatelja u dvorani je ograničen i iznosi 21.Cijena 
 ulaznice je 20\,00 kn.Informacije i rezervacije na broj 034/273-161.(Progr
 am se održava uz poštivanje propisanih epidemioloških mjera.) https://www.
 gkp.hr/program/event/437-drvo-bajki-djevojcica-sa-sibicama
DTSTART:20210131T110000Z
DTEND:20210131T113000Z
LOCATION:Gradsko kazalište Požega (Trg Svetog Trojstva\, 34000\, Požega\, C
 roatia)
SUMMARY:DRVO BAJKI - Djevojčica sa šibicama
URL:https://www.gkp.hr/program/event/437-drvo-bajki-djevojcica-sa-sibicama
END:VEVENT
END:VCALENDAR
