BEGIN:VCALENDAR
VERSION:2.0
PRODID:-//https://www.gkp.hr///NONSGML kigkonsult.se iCalcreator 2.10.15//
METHOD:PUBLISH
BEGIN:VEVENT
UID:20260422T115430UTC-4298ko9klC@https://www.gkp.hr/
DTSTAMP:20260422T115430Z
DESCRIPTION:Redatelj: Krešimir Dolenčić\nDramaturg i koautor: Ana Tonković 
 Dolenčić\nUloge: Ksenija Prohaska - Barbara Oblak\n&nbsp\; &nbsp\; &nbsp\;
  &nbsp\; &nbsp\; &nbsp\; Marjan Nejašmić Banić - Dr. Mucić\nSvatko od nas 
 ima slabu točku. Nekoga bole leđa\, nekoga želudac\, a junakinju ove priče
  – glava. Kada Barbaru Oblak (Ksenija Prohaska) glavobolje dovedu do psihi
 jatrijske ordinacije\, uz puno humora otvoriti će se granice svih života k
 oje je ona nosila u sebi\, pitajući nas je li stvarnost zaista samo jedna 
 ili je možda jednako stvarno i ono što izmislimo. Sve što nije prepušteno 
 zaboravu čini našu sadašnjost koja se lakše podnosi uz osmijeh\, a to će s
 e najbolje pokazati trenucima u kojima se događa ova predstava.&nbsp\;Dr. 
 Mucić (Marjan Nejašmić Banić) nas vodi kroz seanse da bi osvijestio proble
 m pacijenta\, koji u principu uvijek negira i podešava prošlost onako kako
  mu se sviđa.&nbsp\;\nCijena ulaznice: 10 EUR ( studenti i umirovljenici: 
 7 EUR)\nKlikni i kupi ulaznicu online!\nProdaja ulaznica u radno vrijeme b
 lagajne kazališta: srijedom i petkom od 10 do 12 sati\, četvrtkom od 15 do
  17 sati\, te sat vremena prije početka predstave.\nKontakt: 099 273 1616
 \n&nbsp\; https://www.gkp.hr/program/event/942-a-odakle-ste-vi-gospodo-kse
 nija-prohaska
DTSTART:20250212T190000Z
DTEND:20250212T201500Z
LOCATION:Gradsko kazalište Požega (Trg Svetog Trojstva\, 34000\, Požega\, C
 roatia)
SUMMARY:A odakle ste vi\, gospođo? - Ksenija Prohaska
URL:https://www.gkp.hr/program/event/942-a-odakle-ste-vi-gospodo-ksenija-pr
 ohaska
END:VEVENT
END:VCALENDAR
