BEGIN:VCALENDAR
VERSION:2.0
PRODID:-//https://www.gkp.hr///NONSGML kigkonsult.se iCalcreator 2.10.15//
METHOD:PUBLISH
BEGIN:VEVENT
UID:20260422T134146UTC-2159BNUaT2@https://www.gkp.hr/
DTSTAMP:20260422T134146Z
DESCRIPTION:13. veljače u 19.00 sati - Valentinovski koncert / Posegana i K
 lapa Sv. Lovro\n-Informacije: 098 793 343\n-cijena ulaznice: 10 EUR https:
 //www.gkp.hr/program/event/944-valentinovski-koncert-posegana-i-klapa-sv-l
 ovro
DTSTART:20250213T180000Z
DTEND:20250213T193000Z
LOCATION:Gradsko kazalište Požega (Trg Svetog Trojstva\, 34000\, Požega\, C
 roatia)
SUMMARY:Valentinovski koncert - Posegana i Klapa Sv. Lovro
URL:https://www.gkp.hr/program/event/944-valentinovski-koncert-posegana-i-k
 lapa-sv-lovro
END:VEVENT
END:VCALENDAR
