BEGIN:VCALENDAR
VERSION:2.0
PRODID:-//https://www.gkp.hr///NONSGML kigkonsult.se iCalcreator 2.10.15//
METHOD:PUBLISH
BEGIN:VEVENT
UID:20260421T002059UTC-2486lSUvej@https://www.gkp.hr/
DTSTAMP:20260421T002059Z
DESCRIPTION:Kupljene ulaznice za predstavu mogu se vratit u uredovno vrijem
 e naše blagajne: srijedom i petkom od 10 do 12 h te četvtkom od 15 do 17 h
 .\n“Dođi gola na večeru“ priča je o Bernardu\, arhitektu iz Pariza\, ( kod
  nas iz Zagreba) koji šalje svoju suprugu Žanu njezinoj majci za vikend\, 
 u nadi da će se moći provesti romantičnu i strastvenu noć sa svojom ljubav
 nicom. Da da bi večer bila što uspješnija\, unajmio je kuharicu koja sasvi
 m slučajno ima isto nadimak kao i njegova ljubavnica. Kao alibi pozvao je 
 svog prijatelja Roberta da im se pridruži na večeri.Plan izgleda savršeno.
  Što bi moglo poći po zlu? Pa… pretpostavimo da se Robert pojavi ne shvaća
 jući zašto je uopće pozvan. Pretpostavimo da su Robert i Žana zapravo tajn
 i ljubavnici i da Žana zapravo uopće nije otišla svojoj majci za vikend. P
 retpostavimo da se sad kuharica zapravo pretvara da je ljubavnica\, a ljub
 avnica da je kuharica\, a istina je da ne zna kuhati. Pretpostavimo da se 
 svačiji alibi pomiješa sa svačijim. Slijedi večer urnebesne zbrke dok Bern
 ard i Robert improviziraju vrtoglavom brzinom ne bi li se kako-tako izvukl
 i. Ova zapetljana situacija likovima donosi tragediju\, a gledateljima smi
 jeh\, odnosno komediju.\nDrugo pravilo farse je da likovi moraju biti uvje
 rljivi\, autentični i prepoznatljivi. Bit svake komedije je upravo “prepoz
 navanje“. U ljudskoj je prirodi da se smije onome u čemu prepoznaje sam se
 be i druge ljude. Tako ćemo bez sumnje prepoznati uspješnog i bogatog Bern
 arda\, šarmantnog arhitekta\, njegovu suprugu Žanu\, manipulativnu damu iz
  visokog društva i njihovog zbunjenog kuma Roberta. Prepoznat ćemo i samoz
 vanu glumicu i narodski vještu kuharicu koja svaku situaciju okrene u svoj
 u (materijalnu) korist. Tipičan je i tvrdi i ljubomorni kuharičin muž s ko
 jim nema šale. Poanta je u tome da se upravo zbog te njihove tipičnosti i 
 prepoznatljivosti\, smijemo njihovim dogodovštinama na sceni.\nIGRAJU:Bern
 ard Lonke\, arhitekt iz Zagreba: DONAT ZEKOŽana Kovač Lonke\, njegova žena
 : ANA PERKOVIĆRobert Šprajc\, računovođa iz Zagreba: BOJAN BRAJČIĆMirjana 
 Drlje Mimi\, kuharica iz Drniša: ORIANA KUNČIĆMarijana Ivanišević Mimi\, i
 nfluencerica iz Splita: FRANKA KLARIĆJosip Joso Bakula\, grill majstor iz 
 Boraje: KREŠIMIR JELIĆ\nProdukcija: HNK U ŠIBENIKUAutor: MARC CAMOLETTIRež
 ija i adaptacija: NINA KLEFLIN\nCijena ulaznice: 12 EUR (studenti i umirov
 ljenici 10 EUR)\nKlikni i kupi ulaznicu online!\nProdaja ulaznica u radno 
 vrijeme blagajne kazališta: srijedom i petkom od 10 do 12 sati\, četvrtkom
  od 15 do 17 sati\, te sat vremena prije početka predstave.\nKontakt: 099 
 273 1616 https://www.gkp.hr/program/event/1054-dodi-gola-na-veceru-hnk-u-s
 ibeniku-otkazano
DTSTART:20260213T190000Z
DTEND:20260213T203000Z
LOCATION:Gradsko kazalište Požega (Trg Svetog Trojstva\, 34000\, Požega\, C
 roatia)
SUMMARY:Dođi gola na večeru - HNK u Šibeniku / OTKAZANO
URL:https://www.gkp.hr/program/event/1054-dodi-gola-na-veceru-hnk-u-sibenik
 u-otkazano
END:VEVENT
BEGIN:VEVENT
UID:20260421T002059UTC-2489Vv19X7@https://www.gkp.hr/
DTSTAMP:20260421T002059Z
DESCRIPTION:13. veljače u 18.00 h\nO Grgi Čvarku gostuje u Centru za kultur
 u Orašje\, Orašje\nJednog od najpoznatijeg dječaka\, Grgu Čvarka mladi i s
 tari\, djeca i odrasli upoznali su davne 1967. godine kada je objavljena z
 birka pjesama koja nosi baš njegovo ime. Autor Ratko Zvrko opisao ga je ka
 o nestašnog\, zaigranog\, naopakog ali u isto vrijeme dobrog i brižnog dje
 čaka. Pedeset i sedam godina nakon prvog pojavljivanja Grga Čvarak je i da
 lje isti kao vječna inspiracija djeci i odraslima.“Čas dobar\, čas zao\, č
 as bi svakom srce dao\, čas bi se sa vukom klao\, mršav\, tanak k’o suhara
 k - Grga Čvarak.Kako Grga provodi svoje dane? Može li Grga staviti mački s
 oli na rep? Što je Grga dobio iz testa iz matematike? Što je čika Mika već
  sto puta rekao Grgi? Koja je Grgina omiljena pita? Odgovore na ta pitanja
 \, ali i još ponešto pogledajte i poslušajte u predstavi “O Grgi Čvarku” p
 rema dramatizaciji Željke Siser\, a u režiji glumca i lutkara Andrije Kriš
 tofa.\nAUTORSKI TIM:Autorica teksta: Željka SiserRedatelj: Andrija Krištof
 Glume: Anabela Sulić i Matko TrnačićOblikovanje tona/ton: Dario HakOblikov
 anje svjetla/rasvjeta: Goran KrmpotićScenografija: Renato Pok\, Marija Mat
 ijanićKostimografija: Ljiljana RodićDizajn plakata: Marija MatijanićProduk
 cija: Gradsko kazalište Požega\, rujan 2024. https://www.gkp.hr/program/ev
 ent/1065-o-grgi-cvarku-gostovanje-u-orasju
DTSTART:20260213T170000Z
DTEND:20260213T174500Z
LOCATION:Orašje ()
SUMMARY:O Grgi Čvarku - gostovanje u Orašju
URL:https://www.gkp.hr/program/event/1065-o-grgi-cvarku-gostovanje-u-orasju
END:VEVENT
END:VCALENDAR
