BEGIN:VCALENDAR
VERSION:2.0
PRODID:-//https://www.gkp.hr///NONSGML kigkonsult.se iCalcreator 2.10.15//
METHOD:PUBLISH
BEGIN:VEVENT
UID:20260422T151613UTC-01195JlAsN@https://www.gkp.hr/
DTSTAMP:20260422T151613Z
DESCRIPTION:14. veljače u 19.00 sati - Valentinovski koncert / Posegana i K
 lapa Sv. Lovro\nRasprodano!\n&nbsp\; https://www.gkp.hr/program/event/945-
 valentinovski-koncert-posegana-i-klapa-sv-lovro-rasprodano
DTSTART:20250214T180000Z
DTEND:20250214T193000Z
LOCATION:Gradsko kazalište Požega (Trg Svetog Trojstva\, 34000\, Požega\, C
 roatia)
SUMMARY:Valentinovski koncert - Posegana i Klapa Sv. Lovro / rasprodano
URL:https://www.gkp.hr/program/event/945-valentinovski-koncert-posegana-i-k
 lapa-sv-lovro-rasprodano
END:VEVENT
END:VCALENDAR
