BEGIN:VCALENDAR
VERSION:2.0
PRODID:-//https://www.gkp.hr///NONSGML kigkonsult.se iCalcreator 2.10.15//
METHOD:PUBLISH
BEGIN:VEVENT
UID:20260422T170453UTC-0102dOi7il@https://www.gkp.hr/
DTSTAMP:20260422T170453Z
DESCRIPTION:POST VALENTINOVO - SUBOTA 15.2. STAND UP COMEDY SHOW 'DOBRO SI 
 SE OŽENIO'&nbsp\;Marko Dejanović u subotu 15.2. od 20h u Gradskom kazališt
 u Požega izvodi svoj novi solo show 'Dobro Si Se Oženio'. Treći je to Mark
 ov solo show\, nakon Prosti Faktori (premijera 2014.) i Brak\, dijete i po
 vremeni seks (premijera 2020.). U njemu Marko na svoj iskreni i često šoka
 ntni i seksualizirani način priča o životu sa sad već pučkoškolcem i ženom
 \, svojoj ulozi u domaćinstvu te neminovnom starenju.Cijena ulaznice: 10 €
 Informacije 099 273 1616\, marketing@gkp.hr\, INBOX GKP: https://www.faceb
 ook.com/gradsko.pozegaRadno vrijeme blagajne kazališta – srijedom i petkom
  od 10 do 12 sati\, četvrtkom od 15 do 17 sati\, te sat vremena prije poče
 tka programa.*prodaja počinje 22.1.\nMarko je Bosanac koji većinu života ž
 ivi u Zagrebu\, bivši novinar i pisac s tri objavljene knjige te nagradom 
 HDP-a za knjigu godine za roman 'Karte\, molim!'. U listopadu 2024. je KD 
 Lisinski uzavreo smijehom na njegovoj proslavi 10 godina Stand-Up Comedy k
 arijere\, a mediji su poslje te izvedbe pisali da je najduhovitiji domaći 
 komičar. Dejanović je osnivač BIS Comedy kolektiva i njegov najstariji čla
 n.\n*Stand-Up komedija je namijenjena publici starijoj od 16 godina\, mlađ
 i smiju biti u publici uz pratnju staratelja i na njihovu odgovornost. htt
 ps://www.gkp.hr/program/event/938-dobro-si-se-ozenio-stand-up-comedy
DTSTART:20250215T190000Z
DTEND:20250215T203000Z
LOCATION:Gradsko kazalište Požega (Trg Svetog Trojstva\, 34000\, Požega\, C
 roatia)
SUMMARY:Dobro si se oženio - Stand up comedy
URL:https://www.gkp.hr/program/event/938-dobro-si-se-ozenio-stand-up-comedy
END:VEVENT
BEGIN:VEVENT
UID:20260422T170453UTC-0105BhP0CU@https://www.gkp.hr/
DTSTAMP:20260422T170453Z
DESCRIPTION:O Grgi Čvarku - gostovanje u Slavonskom Brodu\, Glazbena škola 
 Slavonski Brod\nO PREDSTAVI:Jednog od najpoznatijeg dječaka\, Grgu Čvarka 
 mladi i stari\, djeca i odrasli upoznali su davne 1967. godine kada je obj
 avljena zbirka pjesama koja nosi baš njegovo ime. Autor Ratko Zvrko opisao
  ga je kao nestašnog\, zaigranog\, naopakog ali u isto vrijeme dobrog i br
 ižnog dječaka. Pedeset i sedam godina nakon prvog pojavljivanja Grga Čvara
 k je i dalje isti kao vječna inspiracija djeci i odraslima.“Čas dobar\, ča
 s zao\, čas bi svakom srce dao\, čas bi se sa vukom klao\, mršav\, tanak k
 ’o suharak - Grga Čvarak.Kako Grga provodi svoje dane? Može li Grga stavit
 i mački soli na rep? Što je Grga dobio iz testa iz matematike? Što je čika
  Mika već sto puta rekao Grgi? Koja je Grgina omiljena pita? Odgovore na t
 a pitanja\, ali i još ponešto pogledajte i poslušajte u predstavi “O Grgi 
 Čvarku” prema tekstu Željke Siser\, a u režiji glumca i lutkara Andrije Kr
 ištofa.\nAUTORSKI TIM:Autorica teksta: Željka SiserRedatelj: Andrija Krišt
 ofGlume: Anabela Sulić i Matko Trnačić\n&nbsp\;\n&nbsp\; https://www.gkp.h
 r/program/event/947-o-grgi-cvarku-gostovanje-u-slavonskom-brodu
DTSTART:20250215T100000Z
DTEND:20250215T104000Z
LOCATION:Glazbena škola Slavonski Brod (Vukovarska 1. Sl. Brod)
SUMMARY:O Grgi Čvarku - gostovanje u Slavonskom Brodu
URL:https://www.gkp.hr/program/event/947-o-grgi-cvarku-gostovanje-u-slavons
 kom-brodu
END:VEVENT
END:VCALENDAR
