BEGIN:VCALENDAR
VERSION:2.0
PRODID:-//https://www.gkp.hr///NONSGML kigkonsult.se iCalcreator 2.10.15//
METHOD:PUBLISH
BEGIN:VEVENT
UID:20260425T164351UTC-3081VgS00i@https://www.gkp.hr/
DTSTAMP:20260425T164351Z
DESCRIPTION:Predstava za djecu 3+ je mali mjuzikl s dozom eko tematike\,a g
 ovori o psiću Pufiju koji se izgubio u šumi i traži svoju Djevojčicu. Pufi
  putem upoznaje plašljivog Zeca\, veselog Vepra i gospodina Vuka. Što će s
 ve Pufi naučiti od novih prijatelja i hoće li naći svoju Djevojčicu\, pogl
 edajte u našoj najnovijoj ekološkoj predstavi!\nTekst i režija: Mirta Zeče
 vić\nGlume: Veronika Mach\, Korana Ugrina\, Filip Lugarić\nDob: 3+\nCijena
  ulaznice: 4 EURInformacije i rezervacije: 099/273-1616\, marketing@gkp.hr
 \, FBRadno vrijeme blagajne kazališta – srijedom i petkom od 10 do 12 sati
 \, četvrtkom od 15 do 17 sati\, te sat vremena prije početka predstave htt
 ps://www.gkp.hr/program/event/821-pufi-u-sumi-kd-smjesko
DTSTART:20240217T100000Z
DTEND:20240217T104000Z
LOCATION:Gradsko kazalište Požega (Trg Svetog Trojstva\, 34000\, Požega\, C
 roatia)
SUMMARY:Pufi u šumi - KD 'Smješko'
URL:https://www.gkp.hr/program/event/821-pufi-u-sumi-kd-smjesko
END:VEVENT
END:VCALENDAR
