BEGIN:VCALENDAR
VERSION:2.0
PRODID:-//https://www.gkp.hr///NONSGML kigkonsult.se iCalcreator 2.10.15//
METHOD:PUBLISH
BEGIN:VEVENT
UID:20260423T025354UTC-7084DNuMDJ@https://www.gkp.hr/
DTSTAMP:20260423T025354Z
DESCRIPTION:Drage majke\, obitelji i svi koji razumiju važnost brige za maj
 činsko zdravlje\,s velikim vas zadovoljstvom pozivamo na predstavu Novorođ
 ena i panel raspravu pod nazivom 'Mama zaslužuje biti dobro'\, koja će se 
 održati u Gradskom kazalištu Požega\, 21. veljače 2025. u 19:00 sati.Ova v
 ečer posvećena je važnoj\, ali često zanemarenoj temi – postoporođajnoj de
 presiji. Putovanje majčinstva\, iako ispunjeno ljubavlju\, zna biti izazov
 no i emocionalno iscrpljujuće. Naša je želja podići svijest o ovoj osjetlj
 ivoj temi\, pružiti podršku majkama te osnažiti obitelji da zajedno prođu 
 kroz sve izazove koje donosi roditeljstvo.Kroz dirljivu i vjerodostojnu iz
 vedbu glumice Dee Marie Računice i inspirativnu panel raspravu divnih žena
  iz Centra za perinatalnu psihologiju\, psihologinje Martine Trboglav Podv
 orac i dr. Nine Čikeš Stegić\, govorit ćemo o tome koliko je važno prepozn
 ati znakove postporođajne depresije\, pružiti podršku i ohrabriti svaku ma
 jku da brine o sebi. Želimo stvoriti zajednicu koja razumije i podržava – 
 jer svaka mama zaslužuje biti dobro.Ulaz je besplatan\, a informacije o po
 četku rezervacije karata bit će objavljene uskoro.Vaša prisutnost čini raz
 liku. Pridružite nam se u ovoj posebnoj večeri i budite dio pokreta koji š
 iri ljubav\, razumijevanje i podršku majkama i obiteljima.Srdačno vas oček
 ujemo\,Ivan i Antonija Bošković.O PREDSTAVI: Hvaljena predstava „Novorođen
 a“\, autorice i glumice Dee Marie Računice\, koja kroz snažnu umjetničku i
 nterpretaciju otvara važnu temu porođaja i postpartuma. Predstava donosi i
 skrene i često potresne priče žena\, a kritika je opisuje kao djelo 'potpu
 no lišeno uljepšavanja' koje bez ustezanja progovara o stvarnosti majčinst
 va. Ova monodrama\, uz podršku mentora prof. Gorana Golovka\, temelji se n
 a iskustvima više od 300 žena koje su podijelile svoja previranja\, razbij
 ajući stigmu i predrasude.O PANEL RASPRAVI:Nakon predstave će se održati p
 anel rasprava\, koju će voditi stručnjakinje iz Centra za perinatalnu psih
 ologiju iz Zagreba\, dr. med. Nina Čikeš Stegić\, terapeutkinja i doula\, 
 te psihologinja Martina Trboglav Podvorac. Ove stručnjakinje podijelit će 
 svoja znanja\, iskustva i alarmantne statistike o postporođajnoj depresiji
 \, naglašavajući važnost otvorene komunikacije i svih potrebnih resursa za
  podršku rodiljama.REZERVACIJA ULAZNICA počinje 22.1.2025. One se mogu rez
 ervirati isključivo pozivom na broj Gradskog kazališta Požega u radno vrij
 eme blagajne\, te u isto to vrijeme i preuzeti.Informacije: 099 273 1616Ra
 dno vrijeme blagajne kazališta – srijedom i petkom od 10 do 12 sati\, četv
 rtkom od 15 do 17 sati.&nbsp\;Za više informacija o događaju nazovite na 0
 992331995 (Antonija Bošković).&nbsp\; https://www.gkp.hr/program/event/939
 -novorodena-mama-zasluzuje-biti-dobro
DTSTART:20250221T180000Z
DTEND:20250221T200000Z
LOCATION:Gradsko kazalište Požega (Trg Svetog Trojstva\, 34000\, Požega\, C
 roatia)
SUMMARY:Novorođena - Mama zaslužuje biti dobro
URL:https://www.gkp.hr/program/event/939-novorodena-mama-zasluzuje-biti-dob
 ro
END:VEVENT
END:VCALENDAR
