BEGIN:VCALENDAR
VERSION:2.0
PRODID:-//https://www.gkp.hr///NONSGML kigkonsult.se iCalcreator 2.10.15//
METHOD:PUBLISH
BEGIN:VEVENT
UID:20260421T001759UTC-7398Vs9POR@https://www.gkp.hr/
DTSTAMP:20260421T001759Z
DESCRIPTION:Predstava prikazuje što bi se moglo dogoditi u košnici kada bi 
 sve radilice zbog nekog razloga zaspale\, na kome bi košnica ostala i tko 
 tu treba “spasiti stvar”. Riječ je o interaktivnoj komediji za djecu koja 
 govori o važnosti meda kao prehrambenog proizvoda za sve ljude.\nEdukativn
 u\, zabavnu i raspjevanu komediju o pčelama\, koja uvodi najmlađu publiku 
 u čarobni svijet pčela te educira djecu o njihovoj važnosti za prirodu koj
 a nas okružuje\, potpisuje redatelj Goran Smoljanović\, ravnatelj Teatra t
 o Go.\nUloge:\nTRUT BRZI – Goran Smoljanović\nTRUT MEDENI – Vedran Dakić /
  Ivan Pokupić\nRADILICA PROPOLICA – Matea Marušić / Gabriela Redžić\nCijen
 a ulaznice: 5 EUR\nKlikni i kupi ulaznicu online!\nProdaja ulaznica u radn
 o vrijeme blagajne kazališta: srijedom i petkom od 10 do 12 sati\, četvrtk
 om od 15 do 17 sati\, te sat vremena prije početka predstave.\nKontakt: 09
 9 273 1616 https://www.gkp.hr/program/event/1056-pcelice-gk-joza-ivakic-vi
 nkovci
DTSTART:20260221T100000Z
DTEND:20260221T104500Z
LOCATION:Gradsko kazalište Požega (Trg Svetog Trojstva\, 34000\, Požega\, C
 roatia)
SUMMARY:Pčelice - GK Joza Ivakić Vinkovci
URL:https://www.gkp.hr/program/event/1056-pcelice-gk-joza-ivakic-vinkovci
END:VEVENT
END:VCALENDAR
