BEGIN:VCALENDAR
VERSION:2.0
PRODID:-//https://www.gkp.hr///NONSGML kigkonsult.se iCalcreator 2.10.15//
METHOD:PUBLISH
BEGIN:VEVENT
UID:20260421T232918UTC-24706odZnA@https://www.gkp.hr/
DTSTAMP:20260421T232918Z
DESCRIPTION:Zovu nas BOSANCI je stand up show BIS Comedy kolektiva u izvedb
 i Marka Dejanovića i Admira Šećkanovića. Riječ je o dvojici momaka koje sv
 ugdje\, osim u Bosni i Hercegovini\, identificiraju kao Bosance.Kako je to
  biti pravi Bosanac (živi van BiH)\, kako je to biti musliman komičar\, et
 nički miješanac\, izbjeglica\, dotepenec\, ali i kako je to biti Admir i M
 arko pričati će u ovom urenebesnom showu u srijedu 22.02.2023. od 20h srij
 edu 22.02.2023. od 20h u Gradskom kazalištu Požega.\nCijena ulaznice:&nbsp
 \; 8 EUR / 52\,74 kn (studenti i umirovljenici: 5\,5 EUR / 41\,44 kn)Infor
 macije: 034/273-161\, marketing@gkp.hr\, FBRadno vrijeme blagajne kazališt
 a – srijedom i petkom od 10 do 12 sati\, četvrtkom od 15 do 17 sati\, te s
 at vremena prije početka predstave\n Show nije primjeren za mlađe od 16 go
 dina. https://www.gkp.hr/program/event/674-zovu-nas-bosanci-stand-up-komed
 ija
DTSTART:20230222T190000Z
DTEND:20230222T203000Z
LOCATION:Gradsko kazalište Požega (Trg Svetog Trojstva\, 34000\, Požega\, C
 roatia)
SUMMARY:Zovu nas Bosanci - Stand up komedija
URL:https://www.gkp.hr/program/event/674-zovu-nas-bosanci-stand-up-komedija
END:VEVENT
END:VCALENDAR
