BEGIN:VCALENDAR
VERSION:2.0
PRODID:-//https://www.gkp.hr///NONSGML kigkonsult.se iCalcreator 2.10.15//
METHOD:PUBLISH
BEGIN:VEVENT
UID:20260423T043442UTC-45965UUmbS@https://www.gkp.hr/
DTSTAMP:20260423T043442Z
DESCRIPTION:PEPELJUGA - mjuzikl za djecu prema motivima bajke Charlesa Perr
 aulta KOPRODUKCIJA: Gradsko kazalište Joza Ivakić Vinkovci i Dječje kazali
 šte Branka Mihaljevića u Osijeku: Tekst i režija: Vladimir Andrić\nIgraju 
 i animiraju: Matea Marušić\, Vedran Dakić\, Antonija Mrkonjić\, Katarina Š
 estić Baotić\, Josipa Oršolić\, Vladimir Andrić\, Zorko Bagić\nMjuzikl bog
 ate scenografije i raskošnih kostima govori o skromnoj\, nesebičnoj i nesr
 etnoj Pepeljugi. Pouka predstave je da se dobro uvijek isplati\; uvijek po
 bjeđuje.„Pepeljugu\, bajku koja je obilježila ili samo proletjela kroz dje
 tinjstvo svakog od nas ispričat ćemo\, otpjevati i otplesati našoj najdraž
 oj publici\, djeci. Kroz priču o skromnoj\, nesebičnoj ali i nesretnoj dje
 vojčici mališanima poručujemo da se dobrota\, skromnost i nesebičnost uvij
 ek na kraju isplate. Koliko god pravda\, sreća i zaslužen odmor bili dalek
 o\, koliko god nam se u životu problemi činili velikima\, moramo zanati da
  će “bolje sutra” svakako doći i da ga svo zlo i sva nepravda ovog svijeta
  ne mogu zaustaviti. Da dobro uvijek pobjeđuje čuli smo milijun puta\, ali
  i milijun puta smo vidjeli da to baš i nije tako\, a ova Pepeljuga nam po
 ručuje da nikada ne smijemo prestati vjerovati u bolje sutra i da ćemo dob
 rotom zaslužiti dobro.“- Vladimir Andrić\nUzrast: 5+\nCijena ulaznice: 5 E
 UR\nKlikni i kupi ulaznicu online!\nProdaja ulaznica isključivo u radno vr
 ijeme blagajne kazališta: srijedom i petkom od 10 do 12 sati\, četvrtkom o
 d 15 do 17 sati\, te sat vremena prije početka predstave\nKontakt: 099 273
  1616 https://www.gkp.hr/program/event/941-pepeljuga-gk-joza-ivakic-vinkov
 ci
DTSTART:20250222T100000Z
DTEND:20250222T105000Z
LOCATION:Gradsko kazalište Požega (Trg Svetog Trojstva\, 34000\, Požega\, C
 roatia)
SUMMARY:Pepeljuga - GK Joza Ivakić Vinkovci
URL:https://www.gkp.hr/program/event/941-pepeljuga-gk-joza-ivakic-vinkovci
END:VEVENT
END:VCALENDAR
