BEGIN:VCALENDAR
VERSION:2.0
PRODID:-//https://www.gkp.hr///NONSGML kigkonsult.se iCalcreator 2.10.15//
METHOD:PUBLISH
BEGIN:VEVENT
UID:20260420T182944UTC-0034O2OPBi@https://www.gkp.hr/
DTSTAMP:20260420T182944Z
DESCRIPTION:Nakon rasprodanog showa u studenom 2025. TABUJI su ponovno u Po
 žegi!ŠTO SU 'TABUJI'?TABUJI je najnoviji stand-up show kolektiva LAJNAP Co
 medy. LAJNAP već skoro cijelo desetljeće nasmijava Hrvatsku\, a i susjedne
  nam zemlje (osim Mađarske). Aleks\, Josip\, Vlatko i Saša ovoga će puta n
 asmijavati publiku najškakljivijim temama kroz 90 minuta sirove iskrenosti
 \, crnog humora i smijeha koji ne poznaje granice.Kako je biti daleko najs
 tariji član LAJNAPa\, a pritom planirati nadživjeti sve svoje kolege… i pu
 nicu? Je li selidba u Zagreb teža za čoveka rođenog u Beogradu ili človeka
  rojdenoga v Čakovcu? Zašto se Hercegovac boji trećeg svjetskog rata i kak
 ve veze s tim imaju ženski svećenici? Odgovore na sva navedena\, a i ostal
 a pitanja koja si nikada niste postavili imaju Aleks Curać Šarić\, Josip G
 otovac\, Vlatko Štampar i Saša Turković.TABUJI vas čekaju \;)\nCijena ulaz
 nice: 14 EUR\nKlikni i kupi ulaznicu online!&nbsp\;\nUlaznice je moguće ku
 piti i na blagajni Gradskog kazališta PožegaRadno vrijeme blagajne kazališ
 ta – srijedom i petkom od 10 do 12 sati\, četvrtkom od 15 do 17 sati\, te 
 sat vremena prije početka programa.Informacije: 099 273 1616\n&nbsp\; http
 s://www.gkp.hr/program/event/1058-tabuji-stand-up-komedija-by-lajnap
DTSTART:20260226T190000Z
DTEND:20260226T210000Z
LOCATION:Gradsko kazalište Požega (Trg Svetog Trojstva\, 34000\, Požega\, C
 roatia)
SUMMARY:Tabuji - Stand-up komedija by Lajnap
URL:https://www.gkp.hr/program/event/1058-tabuji-stand-up-komedija-by-lajna
 p
END:VEVENT
BEGIN:VEVENT
UID:20260420T182944UTC-0036S6wlgU@https://www.gkp.hr/
DTSTAMP:20260420T182944Z
DESCRIPTION:PREMIJERA - Robin Hood ponovo jaše - Mala škola kazališta 2\nPr
 ema tekstu Maje Sviben\nNakon tjedana marljivih proba i istraživanja kazal
 išne čarolije\, vrijeme je da svjetla reflektora uperimo u naše polaznike.
  Uzbuđeni smo što s vama možemo podijeliti njihovu pokaznu predstavu koja 
 je rezultat velikog truda i još većeg srca.\nNema ništa lijepšeg\, nego ka
 da baka unuku usadi ljubav prema čitanju knjiga...i još kada ti osobno čit
 a\, a ti uživaš i zamišljaš čitane scene.Robin Hood i njegova vesela druži
 na i dan danas su među nama\, samo se treba malo osvrnuti oko sebe i prepo
 znat ćete ih.\nIzvode:&nbsp\;Ana Barić\, Iva Barić\, Bruna Radovanlija\, D
 amjan Tadić\, Dunja Akšamović\, Una Pandžić\, Eva Josipović\,&nbsp\;Rafael
 a Kostadinović\, Katja Razumović\, Leon Božić\, Nadia Milaković\, Tena Rad
 ić\, Erika Lešić\, Marcela Brnčić\,&nbsp\;Marija Šutalo\, Tena Majski\, Ni
 kolina Matijević Birešić\, Olga Katavić\nVoditeljica: Kornelija Marks\nUla
 z slobodan! https://www.gkp.hr/program/event/1064-robin-hood-ponovo-jase-m
 ala-skola-kazalista-2
DTSTART:20260226T160000Z
DTEND:20260226T164500Z
LOCATION:Gradsko kazalište Požega (Trg Svetog Trojstva\, 34000\, Požega\, C
 roatia)
SUMMARY:Robin Hood ponovo jaše - Mala škola kazališta 2
URL:https://www.gkp.hr/program/event/1064-robin-hood-ponovo-jase-mala-skola
 -kazalista-2
END:VEVENT
END:VCALENDAR
