BEGIN:VCALENDAR
VERSION:2.0
PRODID:-//https://www.gkp.hr///NONSGML kigkonsult.se iCalcreator 2.10.15//
METHOD:PUBLISH
BEGIN:VEVENT
UID:20260421T093456UTC-63824WuXNb@https://www.gkp.hr/
DTSTAMP:20260421T093456Z
DESCRIPTION:3. ožujka 2023. (petak) u 19.00 sati – Večer umjetničkih plesni
 h škola i akademija https://www.gkp.hr/program/event/681-22-pozeski-plesok
 az
DTSTART:20230303T180000Z
DTEND:20230303T193000Z
LOCATION:Gradsko kazalište Požega (Trg Svetog Trojstva\, 34000\, Požega\, C
 roatia)
SUMMARY:22. Požeški plesokaz
URL:https://www.gkp.hr/program/event/681-22-pozeski-plesokaz
END:VEVENT
END:VCALENDAR
