BEGIN:VCALENDAR
VERSION:2.0
PRODID:-//https://www.gkp.hr///NONSGML kigkonsult.se iCalcreator 2.10.15//
METHOD:PUBLISH
BEGIN:VEVENT
UID:20260421T084631UTC-8091am6FBV@https://www.gkp.hr/
DTSTAMP:20260421T084631Z
DESCRIPTION:4. ožujka 2023. (subota) u 19.00 sati – Večer suvremenog plesa 
 i klasičnog baleta https://www.gkp.hr/program/event/682-22-pozeski-plesoka
 z
DTSTART:20230304T180000Z
DTEND:20230304T193000Z
LOCATION:Gradsko kazalište Požega (Trg Svetog Trojstva\, 34000\, Požega\, C
 roatia)
SUMMARY:22. Požeški plesokaz
URL:https://www.gkp.hr/program/event/682-22-pozeski-plesokaz
END:VEVENT
END:VCALENDAR
