BEGIN:VCALENDAR
VERSION:2.0
PRODID:-//https://www.gkp.hr///NONSGML kigkonsult.se iCalcreator 2.10.15//
METHOD:PUBLISH
BEGIN:VEVENT
UID:20260423T103449UTC-1875vceInG@https://www.gkp.hr/
DTSTAMP:20260423T103449Z
DESCRIPTION:5. ožujka 2023. (nedjelja) u 19.00 sati – Večer show\, jazz\, h
 ip hop\, break i step plesa https://www.gkp.hr/program/event/683-22-pozesk
 i-plesokaz
DTSTART:20230305T180000Z
DTEND:20230305T193000Z
LOCATION:Gradsko kazalište Požega (Trg Svetog Trojstva\, 34000\, Požega\, C
 roatia)
SUMMARY:22. Požeški plesokaz
URL:https://www.gkp.hr/program/event/683-22-pozeski-plesokaz
END:VEVENT
END:VCALENDAR
